BEGIN:VCALENDAR
VERSION:2.0
PRODID:-//Agrupació del Bestiari Festiu i Popular de Catalunya - ECPv4.5.3//NONSGML v1.0//EN
CALSCALE:GREGORIAN
METHOD:PUBLISH
X-WR-CALNAME:Agrupació del Bestiari Festiu i Popular de Catalunya
X-ORIGINAL-URL:https://www.bestiari.cat
X-WR-CALDESC:Events for Agrupació del Bestiari Festiu i Popular de Catalunya
BEGIN:VEVENT
DTSTART;TZID=UTC+1:20170623T160000
DTEND;TZID=UTC+1:20170623T220000
DTSTAMP:20260419T214239
CREATED:20170606T065045Z
LAST-MODIFIED:20170606T065045Z
UID:2387-1498233600-1498255200@www.bestiari.cat
SUMMARY:Foguera de Sant Joan al Poblenou
DESCRIPTION:La Foguera de sant Joan\, al carrer Perelló\, prop de la Rambla del Poblenou\nFinalment l'Ajuntament de Barcelona ha acondicionat un espai on podrem fer cada any la foguera de sant Joan. Als nous jardinets del carrer de Perelló\, tocant a la Rambla del Poblenou s'hi ha adequat un espai amb les condicions i dimensions adequades per poder fer-hi la foguera de sant Joan.\n\nEl 23 de juny\, hi encendrem la FOGUERA DE SANT JOAN.\n\n \n\n16:00 h\nLloc: " ESPAI FOGUERA " dels Jardinets del carrer del Perelló.\nRecollida de llenya i aixecada de la foguera\n\n21:00 h\nLloc: carrer del Joncar\, 35 - 39\nConcentració de capgrossos "les Bèsties de la Foguera" amb música de la Colla del Drac.\n\nPodeu fer-vos el capgròs de la bèstia que més us plagui\, descarregueu-lo [aquí]\, un bou\, un gat o una guineu\n\n21.30 h\nLloc: carrer del Joncar\, 35 - 39\nInici de la Cercavila del Fènix\nRecorregut: c. Joncar\, Rambla del Poblenou\, c. Perelló fins c. sant Francesc.\n\n22:00 h\nLloc: " ESPAI FOGUERA " dels Jardinets del carrer del Perelló.\nENCESA DE LA FOGUERA DE SANT JOAN
URL:https://www.bestiari.cat/esdeveniment/foguera-de-sant-joan-al-poblenou/
LOCATION:Rambla del Poblenou\, Barcelona\, Espanya
CATEGORIES:Activitats associats
ATTACH;FMTTYPE=image/png:https://www.bestiari.cat/wp-content/uploads/2017/06/Banner_Foguera.png
END:VEVENT
END:VCALENDAR