BEGIN:VCALENDAR
VERSION:2.0
PRODID:-//Agrupació del Bestiari Festiu i Popular de Catalunya - ECPv4.5.3//NONSGML v1.0//EN
CALSCALE:GREGORIAN
METHOD:PUBLISH
X-WR-CALNAME:Agrupació del Bestiari Festiu i Popular de Catalunya
X-ORIGINAL-URL:https://www.bestiari.cat
X-WR-CALDESC:Events for Agrupació del Bestiari Festiu i Popular de Catalunya
BEGIN:VEVENT
DTSTART;VALUE=DATE:20180518
DTEND;VALUE=DATE:20180519
DTSTAMP:20260420T003332
CREATED:20180508T061246Z
LAST-MODIFIED:20180508T061246Z
UID:3728-1526601600-1526774399@www.bestiari.cat
SUMMARY:Fòrum Euroregional "Cultures populars en diàleg" - Pont du Gard (Occitània)
DESCRIPTION:Enllaç de les cultures europees\, l’Euroregió Pirineus Mediterrània (EPM) reuneix al voltant d’un mateix projecte de cooperació polític\, administratiu i cultural\, Catalunya\, Illes Balears i Occitània / Pirineus-Mediterrània. L’EPM és el conservatori d’un patrimoni cultural ric de la seva diversitat\, en que l’occitá i el catalá constitueixen el fonament d’una identitat compartida per tots els seus habitants. Després d’un primer Fòrum (« Patrimoni i creació » - Castelnaudary\, 2016)\, el CIRDÒC\, la Fira Mediterrània de Manresa i Sa Xerxa - Fira de Teatre Infantil (FIET) dediquen aquesta edició als actors del diàleg cultural entre Pirineus i Mediterrània. Dos dies de trobades\, de conferències i de festa al voltant de les cultures populars d’Occitània\, de Catalunya i de les Balears. Associacions\, germandats\, artistes\, federacions... el conjunt dels actors implicats en el manteniment de les diversitats culturals i lingüístiques\, estan convidats a participar a aquest segon Fòrum euroregional\, els 18 i 19 de maig del 2018 al Pont del Gard.\n\nPodeu consultar en el següent enllaç el Programa d'activitats
URL:https://www.bestiari.cat/esdeveniment/forum-euroregional-cultures-populars-en-dialeg-pont-du-gard-occitania/
LOCATION:Pont du Gard\, França\, Metropolitana
CATEGORIES:Altres activitats,Girona-Catalunya Nord i L'Hérault
ATTACH;FMTTYPE=image/jpeg:https://www.bestiari.cat/wp-content/uploads/2018/05/Forum-euroregional-Pont-du-Gard.jpg
END:VEVENT
END:VCALENDAR