BEGIN:VCALENDAR
VERSION:2.0
PRODID:-//Agrupació del Bestiari Festiu i Popular de Catalunya - ECPv4.5.3//NONSGML v1.0//EN
CALSCALE:GREGORIAN
METHOD:PUBLISH
X-WR-CALNAME:Agrupació del Bestiari Festiu i Popular de Catalunya
X-ORIGINAL-URL:https://www.bestiari.cat
X-WR-CALDESC:Events for Agrupació del Bestiari Festiu i Popular de Catalunya
BEGIN:VEVENT
DTSTART;VALUE=DATE:20181222
DTEND;VALUE=DATE:20181223
DTSTAMP:20260420T074519
CREATED:20181217T085810Z
LAST-MODIFIED:20181217T085955Z
UID:4547-1545436800-1545609599@www.bestiari.cat
SUMMARY:Gran Tió
DESCRIPTION:Aquest cap de setmana\, i amb el Nadal que ja es va acostant\, arriba el Gran Tió dels Voltors a la plaça del Castell de la Bisbal. L’entitat ha preparat un ampli ventall d’activitats per dissabte i per diumenge: Cercavila\, taller familiar\, xocolatada i moltes sorpreses més.\n\nUn cop hagi passat l’activitat\, tots els aliments que es recol·lectin per alimentar el Tió bisbalenc es lliuraran al centre de la Fundació Acollida i Esperança del Convent dels Franciscans.\n\n \n\nDissabte 22 de desembre de 2018\n\n11:00 h Cercavila de timbals i xocolatada.\nSortida de la Plaça del Castell.\n\nPassacarrers amb els Timbalers dels Voltors\, El Bruel dels Timbalers de Pals i els Timbalers de les Gavarres de Monells.\nTot seguit\, farem la xocolatada!\n\nRecorregut: Plaça del Castell - C/Santa Maria del Puig - Plaça Major - C/ de l'Alta Riera - Plaça Germans Sitjar.\n\n11:30 h Taller familiar bola de Nadal.\nPlaça Jacint Verdaguer.\n\nTaller familiar de creació d'una simpàtica i elegant bola de Nadal. Un singular ornament nadalenc\, per lluir en qualsevol racó de casa.\n\n17:30 h a 20:00 h Caga Tió!\nPlaça del Castell\n\nFem cagar el gran Tió!\nPerque el Tió puguis fer cagar\, alguna coseta per menjar li hauràs de portar!\n\n \n\nDissabte 23 de desembre de 2018\n\n17:30 h a 20:00 h Caga Tió!\nPlaça del Castell\n\nFem cagar el gran Tió!\nPerque el Tió puguis fer cagar\, alguna coseta per menjar li hauràs de portar!\n\n \n\nSOLIDARIS AMB L'HOSPITAL SANT JOAN DE DÉU. COL·LABORA AMB EL TIÓ!\n\nCol·labora comprant un tionet de Nadal de cotó!\nEls diners recaptats aniràn destinants a crear l'SJD Pediatric Cancer Center Barcelona\, el centre oncològic infantil més gran d'Europa.\nAjuda a poder tractar i investigar el càncer infantil\, utilitza el hashtag a les xarxes socials #paralosvalientes
URL:https://www.bestiari.cat/esdeveniment/gran-tio/
LOCATION:La Bisbal d'Empordà\, Girona\, 17100\, Espanya
CATEGORIES:Activitats associats,Girona-Catalunya Nord i L'Hérault
ATTACH;FMTTYPE=image/jpeg:https://www.bestiari.cat/wp-content/uploads/2018/12/GranTio_BisbalEmporda.jpg
END:VEVENT
END:VCALENDAR