BEGIN:VCALENDAR
VERSION:2.0
PRODID:-//Agrupació del Bestiari Festiu i Popular de Catalunya - ECPv4.5.3//NONSGML v1.0//EN
CALSCALE:GREGORIAN
METHOD:PUBLISH
X-WR-CALNAME:Agrupació del Bestiari Festiu i Popular de Catalunya
X-ORIGINAL-URL:https://www.bestiari.cat
X-WR-CALDESC:Events for Agrupació del Bestiari Festiu i Popular de Catalunya
BEGIN:VEVENT
DTSTART;TZID=UTC+1:20180708T180000
DTEND;TZID=UTC+1:20180708T223000
DTSTAMP:20260420T020439
CREATED:20180706T074349Z
LAST-MODIFIED:20180706T074349Z
UID:3949-1531072800-1531089000@www.bestiari.cat
SUMMARY:I Trobada de Bestiari Infantil
DESCRIPTION:
URL:https://www.bestiari.cat/esdeveniment/i-trobada-de-bestiari-infantil/
LOCATION:Plaça de l'Església\, Sant Pere de Ribes\, Espanya
CATEGORIES:Activitats associats,Penedès-Garraf
ATTACH;FMTTYPE=image/jpeg:https://www.bestiari.cat/wp-content/uploads/2018/07/TrobadaBestiariStPereRibes.jpg
END:VEVENT
END:VCALENDAR