BEGIN:VCALENDAR
VERSION:2.0
PRODID:-//Agrupació del Bestiari Festiu i Popular de Catalunya - ECPv4.5.3//NONSGML v1.0//EN
CALSCALE:GREGORIAN
METHOD:PUBLISH
X-WR-CALNAME:Agrupació del Bestiari Festiu i Popular de Catalunya
X-ORIGINAL-URL:https://www.bestiari.cat
X-WR-CALDESC:Events for Agrupació del Bestiari Festiu i Popular de Catalunya
BEGIN:VEVENT
DTSTART;TZID=UTC+1:20211010T100000
DTEND;TZID=UTC+1:20211010T210000
DTSTAMP:20260420T002827
CREATED:20211006T105425Z
LAST-MODIFIED:20211006T105425Z
UID:15686-1633860000-1633899600@www.bestiari.cat
SUMMARY:I Trobada de bèsties ciutat de Sagunt
DESCRIPTION:Amb motiu del 15è aniversari de la Diabòlica de Morvedre\, la colla ha organitzat per diumenge 10 d'octubre una jornada plena d'activitats a la plaça dels Tarongers que finalitzarà amb l'encesa de les bèsties participants:\n\n \t10 h Plantada de bèsties\n \t11 h Inauguració de l'exposició: XV Anys de foc\n \t12 h Xerrada: La Diabòlica i Sant Antoni a Sagunt\n \t18 h: Tallers infantils de dibuix de màscares\n \t19 h: Taller de balls tradicionals i danses valencianes\n \t20 h: Lluïment de bèsties\n\n 
URL:https://www.bestiari.cat/esdeveniment/i-trobada-de-besties-ciutat-de-sagunt/
CATEGORIES:Altres activitats,País Valencià
ATTACH;FMTTYPE=image/jpeg:https://www.bestiari.cat/wp-content/uploads/2021/10/244459123_4438900536177674_8909611192021156651_n.jpg
END:VEVENT
END:VCALENDAR