BEGIN:VCALENDAR
VERSION:2.0
PRODID:-//Agrupació del Bestiari Festiu i Popular de Catalunya - ECPv4.5.3//NONSGML v1.0//EN
CALSCALE:GREGORIAN
METHOD:PUBLISH
X-WR-CALNAME:Agrupació del Bestiari Festiu i Popular de Catalunya
X-ORIGINAL-URL:https://www.bestiari.cat
X-WR-CALDESC:Events for Agrupació del Bestiari Festiu i Popular de Catalunya
BEGIN:VEVENT
DTSTART;TZID=UTC+1:20190601T170000
DTEND;TZID=UTC+1:20190601T190000
DTSTAMP:20260419T232030
CREATED:20190509T100854Z
LAST-MODIFIED:20190526T161510Z
UID:5088-1559408400-1559415600@www.bestiari.cat
SUMMARY:IdentiCAT 2019 -  Trobada de Bestiari de Catalunya
DESCRIPTION:Durant cinc dies\,  les viles de Baó i Pesillà de la Ribera organitzen l’IDENTI’CAT\, la trobada de la catalanitat a la Catalunya Nord. Al llarg d’aquests cinc dies\, s’han programat un munt d’activitats i manifestacions culturals catalanes vingudes d’arreu del país\, ja siguin colles geganteres\, sardanistes\, castellers\, diables i entitats de bestiari festiu\, entre d’altres.\n\nL’Agrupació del Bestiari Festiu i Popular de Catalunya\, amb l’ajut del Departament de Cultura\, hi col·labora aportant el bestiari festiu que hi participa a la TROBADA DE BESTIARI DE CATALUNYA (dissabte 1 de juny de 2019 a les 17h\, Baó).\n\nBestiari participant:\n\n \tDrac de Foc El Cabrot amb El Cabrot un Drac Petit estrenat el 18 de maigde 2019\n \tXàldiga Taller de Festes amb la Víbria.\n \tHamlet el Drac del Riberal i Berrugues el drac infantil\n\nEl Cabrot\n\n\nEl drac de foc el Cabrot representa un Llucifer que cavalca sobre una serp de dos caps.\n\nCal destacar l’estructura i l’anatomia de la peça\, que la fan única i singular. És d’una bellesa i\, alhora\, d’una característica terrible que també la fa molt curiosa.\n\nCal destacar-ne en l’actuació l’acompanyament pirotècnic\, compost per a\, aproximadament\, 14 maces i el ceptrot corresponent\, així com uns 10 tabals i 2 caixes.\n\n \n\n \nVíbria\nCreada l’any 1983\, es tracta de la innovadora figura d’un drac femella\, element que dins de les tipologies dels bestiaris tradicionals catalans només havia existit a Barcelona.\n\nFormada per una estructura metàl·lica coberta de fibra de vidre que li dóna volum\, està preparada per a dur cinc fuets (tres al cap -sota el coll- i dos a la cua). Es porta des de dins per una sola persona.\n\nFitxa tècnica\n\n \tAny: 1983\n \tConstructor: Jordi Lleyda\n \tMaterial: Cartró pedra i fibra de vidre\n \tPes: 50Kg\n \tMides: Llargada: 250 cm\, Amplada: 120 cm\, Alçada: 250 cm • Punts de foc: 3 a la boca i 2 a la cua\n \tTracció: Càrrega interior\n\nDrac del Canigó\n\n\nCreat el 2018\, presentat oficialment per les Festes de Sant Joan i Sant Pere al Conflent\, el Drac del Canigó té seu a Prada.\n\nRealitzat en fibra de vidre mesura 2\,40 d'alçada\, porta 7 punts de foc.\n\nÉs el Drac dels Nyerros del Conflent\, del Casal del Conflent.\n\nLa llegenda explica la pujada al Canigó de Pere III\, era el 1285 i la topada amb el Drac...\n\nSurt per les Festes Majors de Sant Pere a Prada i la de Sant Andreu a Vinçà.\n\n \nHamlet el Drac del Ribral\nConstruït el 2006\, i reconstruït el 2014\, Hamlet és l Drac dels Diables i Bruixes del Riberal.\n\nRealitzat en fibra de vidre\, pesa 30 kg i porta 15 punts de foc.\n\nLa llegenda explica com va fer-se conèixer entre el 1659 i el 1714. D'aquí va sortir el seu nom de Hamlet.\n\nSurt per Identi'CAT\, Millars i puntualment a Vinçà\, Banyuls...\n\n \n\nConsulta el programa d'actes complet en aquest enllaç: https://issuu.com/airenou/docs/identi_cat_19_per_imprimir_mise_en_
URL:https://www.bestiari.cat/esdeveniment/identicat-2019/
LOCATION:Rue du Fort\, Bao\, França
CATEGORIES:Activitats pròpies,Girona-Catalunya Nord i L'Hérault
ATTACH;FMTTYPE=image/jpeg:https://www.bestiari.cat/wp-content/uploads/2019/05/Identicat-19-600.jpg
END:VEVENT
END:VCALENDAR