BEGIN:VCALENDAR
VERSION:2.0
PRODID:-//Agrupació del Bestiari Festiu i Popular de Catalunya - ECPv4.5.3//NONSGML v1.0//EN
CALSCALE:GREGORIAN
METHOD:PUBLISH
X-WR-CALNAME:Agrupació del Bestiari Festiu i Popular de Catalunya
X-ORIGINAL-URL:https://www.bestiari.cat
X-WR-CALDESC:Events for Agrupació del Bestiari Festiu i Popular de Catalunya
BEGIN:VEVENT
DTSTART;TZID=UTC+1:20251018T170000
DTEND;TZID=UTC+1:20251018T230000
DTSTAMP:20260419T183549
CREATED:20251014T152625Z
LAST-MODIFIED:20251014T152625Z
UID:27742-1760806800-1760828400@www.bestiari.cat
SUMMARY:II Trobada de Bestiari de Navàs
DESCRIPTION:III Trobada de Bestiari de Navàs\n\nTORNA LA TROBADA DE BESTIARI DE NAVÀS! Després de l’èxit de l’any passat\, enguany arriba la SEGONA TROBADA DE BESTIARI DE NAVÀS\, coincidint amb la Fira de Tardor. Hi podreu conèixer noves figures i retrobar-vos amb algunes de l’any passat!\n\nEl proper 18/10/2025\nInici a les 17.00h a la Plaça de l’Església\n\nEl cartell és obra de la @joana_latree\n\n
URL:https://www.bestiari.cat/esdeveniment/ii-trobada-de-bestiari-de-navas/
LOCATION:08670\, Espanya
CATEGORIES:Altres activitats,Comarques Centrals,Territorials
END:VEVENT
END:VCALENDAR