BEGIN:VCALENDAR
VERSION:2.0
PRODID:-//Agrupació del Bestiari Festiu i Popular de Catalunya - ECPv4.5.3//NONSGML v1.0//EN
CALSCALE:GREGORIAN
METHOD:PUBLISH
X-WR-CALNAME:Agrupació del Bestiari Festiu i Popular de Catalunya
X-ORIGINAL-URL:https://www.bestiari.cat
X-WR-CALDESC:Events for Agrupació del Bestiari Festiu i Popular de Catalunya
BEGIN:VEVENT
DTSTART;TZID=UTC+1:20220715T173000
DTEND;TZID=UTC+1:20220715T233000
DTSTAMP:20260420T044219
CREATED:20220705T120132Z
LAST-MODIFIED:20220705T120132Z
UID:18765-1657906200-1657927800@www.bestiari.cat
SUMMARY:II Trobada de bèsties de la Riera de Gaià
DESCRIPTION:La Riera de Gaià\, aquest municipi de 1.700 habitants de la comarca del Tarragonès\, traurà fum\, foc i espurnes el pròxim divendres 15 de juliol. S'hi celebrarà la II Trobada de bèsties\, en la qual participaran un total de sis figures de bestiari i quatre colles de diables.\n\nEl correfoc començarà a les deu de la nit\, encara que aquella mateixa tarda\, a partir de les 17.30 h\, es farà una plantada de bèsties i més tard\, a les 18.30 h\, contacontes i tallers infantils.
URL:https://www.bestiari.cat/esdeveniment/ii-trobada-de-besties-de-la-riera-de-gaia/
LOCATION:La Riera de Gaià\, Espanya
CATEGORIES:Activitats associats,El Camp-Conca-Priorat
ATTACH;FMTTYPE=image/png:https://www.bestiari.cat/wp-content/uploads/2022/07/Captura-de-pantalla-2022-07-05-a-les-13.56.22.png
END:VEVENT
END:VCALENDAR