BEGIN:VCALENDAR
VERSION:2.0
PRODID:-//Agrupació del Bestiari Festiu i Popular de Catalunya - ECPv4.5.3//NONSGML v1.0//EN
CALSCALE:GREGORIAN
METHOD:PUBLISH
X-WR-CALNAME:Agrupació del Bestiari Festiu i Popular de Catalunya
X-ORIGINAL-URL:https://www.bestiari.cat
X-WR-CALDESC:Events for Agrupació del Bestiari Festiu i Popular de Catalunya
BEGIN:VEVENT
DTSTART;TZID=UTC+1:20230729T110000
DTEND;TZID=UTC+1:20230729T233000
DTSTAMP:20260420T074554
CREATED:20230726T154604Z
LAST-MODIFIED:20230726T154604Z
UID:22433-1690628400-1690673400@www.bestiari.cat
SUMMARY:III Bèstium al Catllar
DESCRIPTION:Trobada de bèsties de foc al Catllar\,  amb una jornada plena de música i foc \n\nUs deixem el cartell amb els actes.\n\n11h: Timbalada\n12:30h: Vermut\n\n19h: Plantada de bèsties\n21h: Correfoc Bèstium\n00h: Discomòbil\n\n \n\n 
URL:https://www.bestiari.cat/esdeveniment/iii-bestium-al-catllar/
CATEGORIES:Activitats associats,El Camp-Conca-Priorat,Territorials
END:VEVENT
END:VCALENDAR