BEGIN:VCALENDAR
VERSION:2.0
PRODID:-//Agrupació del Bestiari Festiu i Popular de Catalunya - ECPv4.5.3//NONSGML v1.0//EN
CALSCALE:GREGORIAN
METHOD:PUBLISH
X-WR-CALNAME:Agrupació del Bestiari Festiu i Popular de Catalunya
X-ORIGINAL-URL:https://www.bestiari.cat
X-WR-CALDESC:Events for Agrupació del Bestiari Festiu i Popular de Catalunya
BEGIN:VEVENT
DTSTART;TZID=UTC+1:20251018T110000
DTEND;TZID=UTC+1:20251018T235900
DTSTAMP:20260419T183550
CREATED:20251004T164636Z
LAST-MODIFIED:20251004T164636Z
UID:27671-1760785200-1760831940@www.bestiari.cat
SUMMARY:III BÈSTIVAL a Canet de Mar
DESCRIPTION:III BÈSTIVAL a Canet de Mar\n\nCanet acull la 3a trobada de Bestiari de Foc. Després sis anys\, tornen a omplir els carrers de Canet de bèsties d'arreu de Catalunya. 11 bèsties en total desfilaran per la Plaça Universitat de Canet de Mar.\n\nSerà un dia festiu ple d'activitats per grans i petits\, lluïments\, tabalades\, concerts\, focs i servei de bar... i sobretot bèsties d'arreu\, que desfilaran pels carrers omplint la nit del 18 de llum i foc.\n\nA les 12h hi haurà la Plantada de Bèsties i a les 18h la Ballada de Bèsties sense Foc. A les 20h es durà a terme la Rua de Foc i per finalitzar\, a partir de les 21h els Lluïments finals.\n\nIII TROBADA DE BÈSTIES PROGRAMA\n\n
URL:https://www.bestiari.cat/esdeveniment/iii-bestival-a-canet-de-mar/
LOCATION:08360\, Espanya
CATEGORIES:Activitats associats,Territorials,Vallès-Maresme-Barcelonès Nord
END:VEVENT
END:VCALENDAR