BEGIN:VCALENDAR
VERSION:2.0
PRODID:-//Agrupació del Bestiari Festiu i Popular de Catalunya - ECPv4.5.3//NONSGML v1.0//EN
CALSCALE:GREGORIAN
METHOD:PUBLISH
X-WR-CALNAME:Agrupació del Bestiari Festiu i Popular de Catalunya
X-ORIGINAL-URL:https://www.bestiari.cat
X-WR-CALDESC:Events for Agrupació del Bestiari Festiu i Popular de Catalunya
BEGIN:VEVENT
DTSTART;TZID=UTC+1:20251018T170000
DTEND;TZID=UTC+1:20251018T233000
DTSTAMP:20260419T183636
CREATED:20251005T140741Z
LAST-MODIFIED:20251005T140741Z
UID:27682-1760806800-1760830200@www.bestiari.cat
SUMMARY:III Mercadal de Foc a Sant Andreu de Palomar
DESCRIPTION:III Mercadal de Foc a Sant Andreu de Palomar\n\nEl proper 18 d'octubre de 2025 arriba la 3a edició del Mercadal de Foc a Sant Andreu de Palomar! Els Diables del Mercadal Infernal han organitzat una tarda plena d'activitats que no us podeu perdre. A la Pl. de Can Fabra...\n\n \t17h Tallers\n \t18h Posa't a la pell d'un Grifó\n \t20h Espectacle de Foc amb...\n\nBretolàs - Volador - El Baró de 9Barris - Griu\n\n \t21.15h Quinto\n \t22h PDs\n\nMercadal de Foc Cartell 2025\n\n \n\n 
URL:https://www.bestiari.cat/esdeveniment/iii-mercadal-de-foc-a-sant-andreu-de-palomar/
LOCATION:Barcelona\, 08030\, Espanya
CATEGORIES:Activitats associats,Barcelona Ciutat,Territorials
END:VEVENT
END:VCALENDAR