BEGIN:VCALENDAR
VERSION:2.0
PRODID:-//Agrupació del Bestiari Festiu i Popular de Catalunya - ECPv4.5.3//NONSGML v1.0//EN
CALSCALE:GREGORIAN
METHOD:PUBLISH
X-WR-CALNAME:Agrupació del Bestiari Festiu i Popular de Catalunya
X-ORIGINAL-URL:https://www.bestiari.cat
X-WR-CALDESC:Events for Agrupació del Bestiari Festiu i Popular de Catalunya
BEGIN:VEVENT
DTSTART;TZID=UTC+1:20190126T123000
DTEND;TZID=UTC+1:20190126T200000
DTSTAMP:20260420T060934
CREATED:20190115T072324Z
LAST-MODIFIED:20191118T123606Z
UID:4632-1548505800-1548532800@www.bestiari.cat
SUMMARY:III Trobada de Bestiari
DESCRIPTION:Dissabte 26 de gener de 2019\n\n12.30 h\nPLANTADA DE BESTIES i inauguració de la III Trobada de Bestiari amb el ball tradicional de cada una de les colles convidades: La Martineta de Cerdanyola\, Drac de Gelida\, Gat Cirius de Barcelona\, Ratpenat de Malgrat de Mar\, Drac de Roquetes\, la Marta de Martorelles\, el Cabro de les Franqueses del Vallès\, l'Abraxas de Palau Solità i Plegamans\, en Bitru i el Llucifer (gegant) de la Colla de Gegants de Parets\, el Rusti\, la Pedra i la Bèstia de la Colla de Diables Parets que actuaran acompanyats de la Colla de diablets i dracs i la música dels tabalers de l'entitat.\n\n17.30 h\nTABALADA de totes les colles convidades.\n\n18.30\nCERCAVILA SENSE FOC.\n\n19 h\nInici del CORREFOC dels diablets i dracs de Parets seguida del bestiari.\nAl finalitzar el correfoc 'històries de bèsties' i lluiment de foc de les bèsties.\n\nEl actes clouran amb el Castell de foc d'artifici i el tradicional repartiment de brou.
URL:https://www.bestiari.cat/esdeveniment/iii-trobada-de-bestiari-2/
LOCATION:Carrer de la Fàbrica\, Parets del Vallès\, Barcelona\, 08150\, Espanya
CATEGORIES:Activitats associats,Vallès-Maresme-Barcelonès Nord
ATTACH;FMTTYPE=image/jpeg:https://www.bestiari.cat/wp-content/uploads/2019/01/III-Trobada-de-Bestiari.jpg
END:VEVENT
END:VCALENDAR