BEGIN:VCALENDAR
VERSION:2.0
PRODID:-//Agrupació del Bestiari Festiu i Popular de Catalunya - ECPv4.5.3//NONSGML v1.0//EN
CALSCALE:GREGORIAN
METHOD:PUBLISH
X-WR-CALNAME:Agrupació del Bestiari Festiu i Popular de Catalunya
X-ORIGINAL-URL:https://www.bestiari.cat
X-WR-CALDESC:Events for Agrupació del Bestiari Festiu i Popular de Catalunya
BEGIN:VEVENT
DTSTART;TZID=UTC+1:20251018T163000
DTEND;TZID=UTC+1:20251018T233000
DTSTAMP:20260419T183718
CREATED:20251011T103957Z
LAST-MODIFIED:20251011T103957Z
UID:27716-1760805000-1760830200@www.bestiari.cat
SUMMARY:III Trobada de Bèsties a Bigues i Riells del Fai
DESCRIPTION:III Trobada de Bèsties a Bigues i Riells del Fai\n\nEl proper dissabte 18 d'octubre a Bigues i Riells del Fai\, es celebrarà la III Trobada de Bèsties! A la Plaça Miquel Bosch.\n\n16.30h Plantada de Bèsties amb...\n\n \tLa Garrifera\n \tLa Gralla de Foc de Granollers\n \tLloba de Madella\n\n17h Tallers Infantils\n\n18.30h Representació de la llegenda de La Lloba de Madella\n\n19.15h Tabalada\n\n20h Actes de Foc:\n\n \tCarretillada\n \tLluïments de les Bèsties\n \tLluïments Infantils i Joves\n \tHora de la Lloba\n\n21.30h Bingo Musical\n\n22.30h DJ\n\nUs deixem el cartell:\n\n
URL:https://www.bestiari.cat/esdeveniment/iii-trobada-de-besties-a-bigues-i-riells-del-fai/
LOCATION:08415 \, Espanya
CATEGORIES:Activitats associats,Territorials,Vallès-Maresme-Barcelonès Nord
END:VEVENT
END:VCALENDAR