BEGIN:VCALENDAR
VERSION:2.0
PRODID:-//Agrupació del Bestiari Festiu i Popular de Catalunya - ECPv4.5.3//NONSGML v1.0//EN
CALSCALE:GREGORIAN
METHOD:PUBLISH
X-WR-CALNAME:Agrupació del Bestiari Festiu i Popular de Catalunya
X-ORIGINAL-URL:https://www.bestiari.cat
X-WR-CALDESC:Events for Agrupació del Bestiari Festiu i Popular de Catalunya
BEGIN:VEVENT
DTSTART;TZID=UTC+1:20170514T113000
DTEND;TZID=UTC+1:20170514T203000
DTSTAMP:20260420T061214
CREATED:20170503T201657Z
LAST-MODIFIED:20170503T201657Z
UID:2196-1494761400-1494793800@www.bestiari.cat
SUMMARY:III Trobada de bèsties de les Franqueses del Vallès
DESCRIPTION:PROGRAMA D'ACTES\n\nDiumenge 14 de maig de 2017:\n\n \t11:30h Plantada de bèsties a la Plaça de l'Ajuntament\n \t16h Cercavila sense foc. Recorregut: de la Plaça de l'Ajuntament fins a la Plaça Espolsada\n \t17:30h Plantada de bèsties i tabalada a la Plaça Espolsada\n \t18h Cercavila de Foc\n\nHi participen les figures de bestiari festiu: Heura de la Florida\, Gralla de foc\, Cuca de Castellbisbal\, Gall Abraxas\, Víbria de Castellar del Vallès\, i les figures amfitriones\, el Cabró i el Closquetes de les Franqueses del Vallès.
URL:https://www.bestiari.cat/esdeveniment/iii-trobada-de-besties-de-les-franqueses-del-valles/
LOCATION:Plaça de l'Ajuntament\, Les Franqueses del Vallès\, Catalunya\, Espanya
CATEGORIES:Activitats promogudes
ATTACH;FMTTYPE=image/jpeg:https://www.bestiari.cat/wp-content/uploads/2017/05/18221670_1386339838093389_2836047266342060951_n.jpg
END:VEVENT
END:VCALENDAR