BEGIN:VCALENDAR
VERSION:2.0
PRODID:-//Agrupació del Bestiari Festiu i Popular de Catalunya - ECPv4.5.3//NONSGML v1.0//EN
CALSCALE:GREGORIAN
METHOD:PUBLISH
X-WR-CALNAME:Agrupació del Bestiari Festiu i Popular de Catalunya
X-ORIGINAL-URL:https://www.bestiari.cat
X-WR-CALDESC:Events for Agrupació del Bestiari Festiu i Popular de Catalunya
BEGIN:VEVENT
DTSTART;TZID=UTC+1:20251122T120000
DTEND;TZID=UTC+1:20251122T203000
DTSTAMP:20260419T205940
CREATED:20251116T165621Z
LAST-MODIFIED:20251116T165621Z
UID:27912-1763812800-1763843400@www.bestiari.cat
SUMMARY:III Trobada de Bèsties i 40è Aniversari dels Diables del Carmel
DESCRIPTION:III TROBADA DE BÈSTIES - 40 ANIVERSARI DE DIABLES DEL CARMEL\n\nEl proper dissabte 22 de novembre es celebrarà la III Trobada de Bèsties i el 40è Aniversari dels Diables del Carmel! La colla de Diables del Carmel porta 40 anys fent història arreu de Catalunya i més enllà. Aprofiten el gran dia per convidar diverses bèsties donant lloc a la tercera trobada de bestiari al barri. Vindran el Brumot de Gavà (@ciafocgava) i el Pollo del Prat (@diablesdelprat_) i com a colles convidades de diables: @malignesguinardo @diablesdemontbau @diablesverneda.guspirestmarti\n\nA la Rambla del Carmel\n\nACTIVITATS\n\n12h Vermut rumbero amb @rumbaalborada84\n12.30h Plantada de bèsties\n14h Botifarrada popular\n16h Jocs amb bèsties i diables\, tallers pels petits\n18h Comença el foc\n\n\n\n 
URL:https://www.bestiari.cat/esdeveniment/iii-trobada-de-besties-i-40e-aniversari-dels-diables-del-carmel/
LOCATION:Barcelona\, Espanya
CATEGORIES:Activitats associats,Barcelona Ciutat,Territorials
END:VEVENT
END:VCALENDAR