BEGIN:VCALENDAR
VERSION:2.0
PRODID:-//Agrupació del Bestiari Festiu i Popular de Catalunya - ECPv4.5.3//NONSGML v1.0//EN
CALSCALE:GREGORIAN
METHOD:PUBLISH
X-WR-CALNAME:Agrupació del Bestiari Festiu i Popular de Catalunya
X-ORIGINAL-URL:https://www.bestiari.cat
X-WR-CALDESC:Events for Agrupació del Bestiari Festiu i Popular de Catalunya
BEGIN:VEVENT
DTSTART;TZID=UTC+1:20191130T170000
DTEND;TZID=UTC+1:20191130T190000
DTSTAMP:20260419T200205
CREATED:20191127T090155Z
LAST-MODIFIED:20191127T101020Z
UID:6291-1575133200-1575140400@www.bestiari.cat
SUMMARY:Inauguració de la Sala de les bèsties i els gegants
DESCRIPTION:El Museu de la Mediterrània de Torroella de Montgrí inaugura un nou espai: es tracta de la Sala de les bèsties i els gegants. Després de nou mesos de treball\, aquesta exposició es donarà a conèixer el dissabte 30 de novembre a les 17 hores.\n\nEn aquesta nova sala\, el Museu de la Mediterrània ha incorporat vídeos\, fotografies\, pantalles tàctils i textos que expliquen la història de les imatges festives del municipi. Els visitants\, a més\, també poden veure i conèixer de ben a prop el Gegant i la Gegantessa\, l'Àliga i el Drac\, el gegantó Pauet el Barquer\, l'Home dels Nassos\, l'Esquivamosques i tota la resta de capgrossos.
URL:https://www.bestiari.cat/esdeveniment/inauguracio-de-la-sala-de-les-besties-i-els-gegants/
LOCATION:carrer d'Ullà\, 31\, Torroella de Montgrí\, Barcelona\, 17257\, Espanya
CATEGORIES:Altres activitats,Girona-Catalunya Nord i L'Hérault
ATTACH;FMTTYPE=image/jpeg:https://www.bestiari.cat/wp-content/uploads/2019/11/cartell-1.jpg
END:VEVENT
END:VCALENDAR