BEGIN:VCALENDAR
VERSION:2.0
PRODID:-//Agrupació del Bestiari Festiu i Popular de Catalunya - ECPv4.5.3//NONSGML v1.0//EN
CALSCALE:GREGORIAN
METHOD:PUBLISH
X-WR-CALNAME:Agrupació del Bestiari Festiu i Popular de Catalunya
X-ORIGINAL-URL:https://www.bestiari.cat
X-WR-CALDESC:Events for Agrupació del Bestiari Festiu i Popular de Catalunya
BEGIN:VEVENT
DTSTART;TZID=UTC+1:20260425T180000
DTEND;TZID=UTC+1:20260425T223000
DTSTAMP:20260422T170031
CREATED:20260422T132242Z
LAST-MODIFIED:20260422T132250Z
UID:28598-1777140000-1777156200@www.bestiari.cat
SUMMARY:Infantibestium - 5a Trobada de Bestiari Infantil
DESCRIPTION:Infantibestium - 5a Trobada de Bestiari Infantil\n\nEls més petits encenen la màgia!  Aquest dissabte 25\, Molins de Rei omplirà els seus carrers de foc i bèsties amb...\n\n \tEspurna de Molins de Rei\n \tMalèfics de Centre Vila de Vilanova i la Geltrú\n \tPetardons i Petardones de Can Calders\n \tBanyetes d'Horta\n \tDrac de Molins de Rei\n\nHoraris:\n\n \t18h - Plantada de Bèsties\n \t20.30h - Correfoc pels carrers de la Vila (Inici: Pati del Palau de Recasens - Final: Plaça del Mercat)\n\n\n\n 
URL:https://www.bestiari.cat/esdeveniment/infantibestium-5a-trobada-de-bestiari-infantil/
LOCATION:Molins de Rei \, Barcelona \, 08750\, Espanya
CATEGORIES:Activitats associats,Baix Llobregat i L'Hospitalet,Territorials
END:VEVENT
END:VCALENDAR