BEGIN:VCALENDAR
VERSION:2.0
PRODID:-//Agrupació del Bestiari Festiu i Popular de Catalunya - ECPv4.5.3//NONSGML v1.0//EN
CALSCALE:GREGORIAN
METHOD:PUBLISH
X-WR-CALNAME:Agrupació del Bestiari Festiu i Popular de Catalunya
X-ORIGINAL-URL:https://www.bestiari.cat
X-WR-CALDESC:Events for Agrupació del Bestiari Festiu i Popular de Catalunya
BEGIN:VEVENT
DTSTART;TZID=UTC+1:20260425T173000
DTEND;TZID=UTC+1:20260425T230000
DTSTAMP:20260422T172623
CREATED:20260422T135243Z
LAST-MODIFIED:20260422T135310Z
UID:28613-1777138200-1777158000@www.bestiari.cat
SUMMARY:IV Fira d’Entitats de Castellví de la Marca
DESCRIPTION:IV Fira d’Entitats de Castellví de la Marca\n\nEl proper dissabte 25 d'abril\, arriba un any més la IV Fira d’Entitats de Castellví de la Marca. Amb el Drac de Castellví de la Marca\, el Drac de la Múnia i l'Ovella de Castellví de la Marca. A la Pl. Major Maset dels Cosins.\n\n \t17.30h - Obertura de Portes\n \t20h - Sopar d'entrepans (venda de tiquets anticipada)\n \t20.30h - DJ\n\nTambé hi haurà música i campionat d'UNO!\n\n 
URL:https://www.bestiari.cat/esdeveniment/iv-fira-dentitats-de-castellvi-de-la-marca/
LOCATION:El dels\, Maset Cosins\, 1\, Castellví de la Marca\, Barcelona\, 08732\, Espanya
CATEGORIES:Activitats associats,Penedès-Garraf,Territorials
END:VEVENT
END:VCALENDAR