BEGIN:VCALENDAR
VERSION:2.0
PRODID:-//Agrupació del Bestiari Festiu i Popular de Catalunya - ECPv4.5.3//NONSGML v1.0//EN
CALSCALE:GREGORIAN
METHOD:PUBLISH
X-WR-CALNAME:Agrupació del Bestiari Festiu i Popular de Catalunya
X-ORIGINAL-URL:https://www.bestiari.cat
X-WR-CALDESC:Events for Agrupació del Bestiari Festiu i Popular de Catalunya
BEGIN:VEVENT
DTSTART;TZID=UTC+1:20250911T093000
DTEND;TZID=UTC+1:20250911T150000
DTSTAMP:20260419T214417
CREATED:20250903T145703Z
LAST-MODIFIED:20250903T145703Z
UID:27466-1757583000-1757602800@www.bestiari.cat
SUMMARY:IV Mostra de Cultura Popular al Parlament de Catalunya
DESCRIPTION:IV Mostra de Cultura Popular al Parlament de Catalunya\n\nUn any més\, Adifolk organitzarà al Parlament de Catalunya en plena celebració de la Diada Nacional\, el proper 11 de setembre\, la IV Mostra de Cultura Popular.\n\nObert a tots els grups dels diferents àmbits de la cultura popular. Els actes tindran lloc durant el matí: cercavila i actuacions de lluïment a la porta principal del Parlament. Al finalitzar\, es lliurarà un pícnic per dinar els grups.\n\nInscripcions fins al 3 de juliol: https://forms.gle/NQPjX3n64EZKnAkB9\n\nUs hi esperen!\n\n
URL:https://www.bestiari.cat/esdeveniment/iv-mostra-de-cultura-popular-al-parlament-de-catalunya/
LOCATION: Parc de la Ciutadella\, s/n\, Barcelona\, 08003 \, Espanya
CATEGORIES:Activitats associats,Activitats promogudes,Barcelona Ciutat,Territorials
END:VEVENT
END:VCALENDAR