BEGIN:VCALENDAR
VERSION:2.0
PRODID:-//Agrupació del Bestiari Festiu i Popular de Catalunya - ECPv4.5.3//NONSGML v1.0//EN
CALSCALE:GREGORIAN
METHOD:PUBLISH
X-WR-CALNAME:Agrupació del Bestiari Festiu i Popular de Catalunya
X-ORIGINAL-URL:https://www.bestiari.cat
X-WR-CALDESC:Events for Agrupació del Bestiari Festiu i Popular de Catalunya
BEGIN:VEVENT
DTSTART;TZID=UTC+1:20200125T123000
DTEND;TZID=UTC+1:20200125T210000
DTSTAMP:20260420T003004
CREATED:20200120T123348Z
LAST-MODIFIED:20200120T123348Z
UID:6923-1579955400-1579986000@www.bestiari.cat
SUMMARY:IV Trobada de Bestiari de Parets del Vallès
DESCRIPTION:Enguany\, la Bèstia de Parets del Vallès fa 15 anys i\, per celebrar-ho\, els Diables de Parets han organitzat una cercavila amb 15 colles convidades. L'acte s'inclou dins del marc de la Festa Major d'hivern del municipi i tindrà lloc el dissabte 25 de gener. Totes les activitats es faran al pàrquing Parc de la Linera.\n\nPrograma d'actes: \n\n \t12.30 h: Inauguració\n \t16.30 h: Activitat "A toc de tabal"\n \t18 h: Tabalada conjunta\n \t18.30 h: Cercavila sense foc\n \t19 h: Correfoc\n\nColles convidades: \n\n \tLa Pedra dels Diables de Parets del Vallès\n \tEl Drac Rustifaci de Parets del Vallès\n \tEn Llucifer dels Diables Llucifer de Roquetes\n \tLa Víbria de Castellar del Vallès\n \tLa Gralla de Foc dels Blaus de Granollers\n \tEl Drac Apocaleus de Vallirana\n \tEl Gripau de les Bruixes del Nord de Sabadell\n \tL'Entxuscat de Molins de Rei\n \tEl DracGall de Castellgalí\n \tEl Sagresaure de la Sagrera de Barcelona\n \tLa Godra de Caldes de Montbui\n \tEl Ca Cerver Bretolàs de Sant Andreu\n \tEl Drac Baluk de Terrassa\n \tLa Lloba de la Madella de Bigues i Riells\n \tLa Bèstia de Parets del Vallès\n\n 
URL:https://www.bestiari.cat/esdeveniment/iv-trobada-de-bestiari-de-parets-del-valles/
CATEGORIES:Activitats associats,Vallès-Maresme-Barcelonès Nord
ATTACH;FMTTYPE=image/jpeg:https://www.bestiari.cat/wp-content/uploads/2020/01/Cartell.jpg
END:VEVENT
END:VCALENDAR