BEGIN:VCALENDAR
VERSION:2.0
PRODID:-//Agrupació del Bestiari Festiu i Popular de Catalunya - ECPv4.5.3//NONSGML v1.0//EN
CALSCALE:GREGORIAN
METHOD:PUBLISH
X-WR-CALNAME:Agrupació del Bestiari Festiu i Popular de Catalunya
X-ORIGINAL-URL:https://www.bestiari.cat
X-WR-CALDESC:Events for Agrupació del Bestiari Festiu i Popular de Catalunya
BEGIN:VEVENT
DTSTART;TZID=UTC+1:20180901T183000
DTEND;TZID=UTC+1:20180901T220000
DTSTAMP:20260420T061047
CREATED:20180830T161813Z
LAST-MODIFIED:20180830T161813Z
UID:4104-1535826600-1535839200@www.bestiari.cat
SUMMARY:IV Trobada de Bèsties de Foc
DESCRIPTION:
URL:https://www.bestiari.cat/esdeveniment/iv-trobada-de-besties-de-foc/
LOCATION:Passeig Colom\, Vinaròs\, Espanya
CATEGORIES:Activitats associats,País Valencià
ATTACH;FMTTYPE=image/jpeg:https://www.bestiari.cat/wp-content/uploads/2018/08/WhatsApp-Image-2018-08-30-at-18.15.32.jpeg
END:VEVENT
END:VCALENDAR