BEGIN:VCALENDAR
VERSION:2.0
PRODID:-//Agrupació del Bestiari Festiu i Popular de Catalunya - ECPv4.5.3//NONSGML v1.0//EN
CALSCALE:GREGORIAN
METHOD:PUBLISH
X-WR-CALNAME:Agrupació del Bestiari Festiu i Popular de Catalunya
X-ORIGINAL-URL:https://www.bestiari.cat
X-WR-CALDESC:Events for Agrupació del Bestiari Festiu i Popular de Catalunya
BEGIN:VEVENT
DTSTART;TZID=UTC+1:20251004T110000
DTEND;TZID=UTC+1:20251004T230000
DTSTAMP:20260420T044245
CREATED:20250929T151731Z
LAST-MODIFIED:20250929T151731Z
UID:27640-1759575600-1759618800@www.bestiari.cat
SUMMARY:IX Trobada de Bestiari "Can Roca Crema" a Terrassa
DESCRIPTION:IX Trobada de Bestiari "Can Roca Crema" a Terrassa \n\nEl  Bitxo del Torrent Mitger segueix amb les celebracions pel seu 40è aniversari! El proper 4 d'octubre organitzen la IX edició de la Trobada de Bestiari de "Can Roca Crema". Durant tot els dia hi haurà activitats a la Pl. de Can Roca de Terrassa.\n\n \t11h Tallers Infantils\n \t12h Mostra d'entitats\n \t13.15h Dansa del Bitxo\n \t13.30h Botifarrada i Vermut\n \t17.30h Plantada de Bèsties\n \t18.30h Acte Institucional\n \t19h Balls de Lluïments i Enceses de Protocol\n \t20.15h Tabalada\n \t20.30h Plaça de Foc\n\nColles Participants\n\n@dracbaluk\n@dracdeterrassa\n@dracibruixesdecanboada\n@diables_spm\n@espurnaeldracdecalafell_\n@lapajaradeterrassa\n@diables.santperenord\n@diablesdevila\n@cucaferabegues_oficial\n\nUs deixem el cartell:\n\n
URL:https://www.bestiari.cat/esdeveniment/ix-trobada-de-bestiari-can-roca-crema-a-terrassa/
CATEGORIES:Activitats associats,Territorials,Vallès-Maresme-Barcelonès Nord
END:VEVENT
END:VCALENDAR