BEGIN:VCALENDAR
VERSION:2.0
PRODID:-//Agrupació del Bestiari Festiu i Popular de Catalunya - ECPv4.5.3//NONSGML v1.0//EN
CALSCALE:GREGORIAN
METHOD:PUBLISH
X-WR-CALNAME:Agrupació del Bestiari Festiu i Popular de Catalunya
X-ORIGINAL-URL:https://www.bestiari.cat
X-WR-CALDESC:Events for Agrupació del Bestiari Festiu i Popular de Catalunya
BEGIN:VEVENT
DTSTART;TZID=UTC+1:20170604T110000
DTEND;TZID=UTC+1:20170604T133000
DTSTAMP:20260421T052351
CREATED:20170601T062830Z
LAST-MODIFIED:20170601T062830Z
UID:2340-1496574000-1496583000@www.bestiari.cat
SUMMARY:Jornada de portes obertes de la Colla del Bitxo del Torrent Mitger #DASC2017
DESCRIPTION:El proper diumenge 4 de juny\, en motiu de la celebració del Dia de l'Associacionisme Cultural (promogut pel Departament de Cultura de la Generalitat de Catalunya)\, la Colla del Bitxo del Torrent Mitger organitza una Jornada de Portes Obertes a la Masia de Ca N'Anglada.\n\nPROGRAMA D'ACTES:\n\n \t11h Visita guiada a la Maisa de Ca N'Anglada\n \t11:30h Lectura Dramatitzada de la llegenda del Bitxo\n \t11:45h Dansa de lluïment de la figura del Bitxo del Torrent Mitger\n \t12h Ball de Bitxaires (colla infantil) i assaig obert de tabals i gralles\n\nMASIA DE CA N'ANGLADA\nC. de la Mare de Déu del Mar\, 49\nTerrassa
URL:https://www.bestiari.cat/esdeveniment/jornada-de-portes-obertes-de-la-colla-del-bitxo-del-torrent-mitger-dasc2017/
LOCATION:Mare de Déu del Mar\, 49\, Terrassa\, Espanya
CATEGORIES:Activitats associats
ATTACH;FMTTYPE=image/jpeg:https://www.bestiari.cat/wp-content/uploads/2017/06/18664524_1406995666027806_2087282467087953286_n.jpg
END:VEVENT
END:VCALENDAR