BEGIN:VCALENDAR
VERSION:2.0
PRODID:-//Agrupació del Bestiari Festiu i Popular de Catalunya - ECPv4.5.3//NONSGML v1.0//EN
CALSCALE:GREGORIAN
METHOD:PUBLISH
X-WR-CALNAME:Agrupació del Bestiari Festiu i Popular de Catalunya
X-ORIGINAL-URL:https://www.bestiari.cat
X-WR-CALDESC:Events for Agrupació del Bestiari Festiu i Popular de Catalunya
BEGIN:VEVENT
DTSTART;TZID=UTC+1:20190516T103000
DTEND;TZID=UTC+1:20190516T140000
DTSTAMP:20260419T214238
CREATED:20190509T094604Z
LAST-MODIFIED:20190509T095034Z
UID:5061-1558002600-1558015200@www.bestiari.cat
SUMMARY:Jornada de reflexió NOUS MODELS DE FESTA
DESCRIPTION:Intervencions participatives i processos que transformen el patrimoni immaterial.\n\nAmb la intervenció de:\nAdrià Pujol (antropòleg i escriptor) ·\nFesta Major de Blancs i Blaus de Granollers ·\nCarnaval de Terra Endins (Torelló) · Festes del Tura (Olot) ·\nFesta Major de Banyoles ·\nLa Nit del Tararot\, l'Eixida i l'Eixideta de la Festa Major de Tàrrega ·\nentre d'altres...\n\nJornada de reflexió organitzada en el marc de les jornades especialitzades implementades des de la Direcció General de Cultura Popular i Associacionisme Cultural de la Generalitat amb l'objectiu de facilitar als diferents agents públics i privats del sector instruments i eines per a millor gestió de l'activitat festiva i associativa.\n\nLa participació ciutadana és necessària per repensar la tradició festiva i apropar-la a la realitat que li toca viure. Aquests processos renoven la perspectiva social de les festivitats i transformen el patrimoni immaterial.\n\nPodeu consultar el Programa d'Actes en aquest enllaç.
URL:https://www.bestiari.cat/esdeveniment/jornada-de-reflexio-nous-models-de-festa/
LOCATION:Palau Marc\, La Rambla\, 8\, Barcelona\, Barcelona\, 08001\, Espanya
CATEGORIES:Altres activitats,Barcelona Ciutat
ATTACH;FMTTYPE=image/jpeg:https://www.bestiari.cat/wp-content/uploads/2019/05/2d400041-3d62-49c4-aa5e-4ec09b989958.jpg
ORGANIZER;CN="Fira%20Mediterr%C3%A0nia%20de%20Manresa":MAILTO:info@firamediterrania.cat
END:VEVENT
END:VCALENDAR