BEGIN:VCALENDAR
VERSION:2.0
PRODID:-//Agrupació del Bestiari Festiu i Popular de Catalunya - ECPv4.5.3//NONSGML v1.0//EN
CALSCALE:GREGORIAN
METHOD:PUBLISH
X-WR-CALNAME:Agrupació del Bestiari Festiu i Popular de Catalunya
X-ORIGINAL-URL:https://www.bestiari.cat
X-WR-CALDESC:Events for Agrupació del Bestiari Festiu i Popular de Catalunya
BEGIN:VEVENT
DTSTART;TZID=UTC+1:20200307T110000
DTEND;TZID=UTC+1:20200307T140000
DTSTAMP:20260420T074640
CREATED:20200306T122427Z
LAST-MODIFIED:20200306T123008Z
UID:8533-1583578800-1583589600@www.bestiari.cat
SUMMARY:Jornada de la Dona a Vilanova i la Geltrú
DESCRIPTION:Lo Drac Petit de Vilanova i la Geltrú participarà dissabte 7 de març en la Jornada de la Dona organitzada pels Falcons de Vilanova. L'acte es farà a la plaça de les Neus i començarà a les 11 h.\n\nPrograma d'activitats: \n\n11 h - 14 h: Vermut solidari amb activitats pels més petits i la participació de l'atracció de Lo Drach Petit.\n\n11.30 h: Taller "Dona i moviment" a càrrec de l'Associació Marinada VNG.\n\n12 h: Actuació de balls populars que comptarà amb la participació de: els Gegants de Vilanova i la Geltrú\, el Drac de Vilanova\, les bastoneres de l'Agrupació de Balls Populars de Vilanova\, els Bordegassos de Vilanova i els Falcons.
URL:https://www.bestiari.cat/esdeveniment/jornada-dona-vilanova-geltru/
LOCATION:plaça de les Neus\, Vilanova i la Geltrú\, Barcelona\, 08800\, Espanya
CATEGORIES:Altres activitats,Penedès-Garraf
ATTACH;FMTTYPE=image/jpeg:https://www.bestiari.cat/wp-content/uploads/2020/03/87860375_2710663802545552_1802490043466514432_o.jpg
END:VEVENT
END:VCALENDAR