BEGIN:VCALENDAR
VERSION:2.0
PRODID:-//Agrupació del Bestiari Festiu i Popular de Catalunya - ECPv4.5.3//NONSGML v1.0//EN
CALSCALE:GREGORIAN
METHOD:PUBLISH
X-WR-CALNAME:Agrupació del Bestiari Festiu i Popular de Catalunya
X-ORIGINAL-URL:https://www.bestiari.cat
X-WR-CALDESC:Events for Agrupació del Bestiari Festiu i Popular de Catalunya
BEGIN:VEVENT
DTSTART;TZID=UTC+1:20170708T100000
DTEND;TZID=UTC+1:20170708T130000
DTSTAMP:20260419T232621
CREATED:20170702T165255Z
LAST-MODIFIED:20170706T165347Z
UID:2581-1499508000-1499518800@www.bestiari.cat
SUMMARY:Jornada: Polítiques d'igualtat en els col·lectius de Cultura Popular
DESCRIPTION:Eulàlia Lledó i Tània Verge són les convidades en la jornada formativa Polítiques d’igualtat en els col·lectius de cultura popular\, organitzada per l’Ens de l’Associacionisme Cultural Català. Una cita imprescindible per dotar-nos de les eines necessàries per evitar qualsevol mostra de sexisme en l’activitat quotidiana de les entitats. El curs tindrà lloc el dissabte 8 de juliol (10:00h) al Museu de les Cultures del Món (Carrer Moncada 12-14).\n\nDoctora en Filologia Romànica per la Universitat de Barcelona\, Lledó ha investigat profusament com visualitzar la presència femenina en diferents àmbits vitals: enciclopèdic\, acadèmic\, esportiu\, periodístic\, etcètera. La seva intervenció se centrarà en detectar aquells vicis lingüístics\, moltes vegades imperceptibles\, que oculten la feminitat en els continguts comunicatius. Garantir que totes les persones vinculades a l’associacionisme s’hi sentin representades implica visualitzar correctament ambdós gèneres.\n\nLa jornada formativa també comptarà amb la presència de Tània Verge\, Doctora en Ciències Polítiques a la Universitat Complutense de Madrid. Durant la seva trajectòria acadèmica\, Verge s’ha dedicat a estudiar els mecanismes que faciliten o dificulten l’accés de les dones en els directius de les entitats polítiques i socials. “Quines polítiques poden aplicar-se per revertir la infrarepresentativitat de les dones en les Juntes Directives?” “Com aconseguir avançar cap a la paritat de les responsabilitats associatives?” L’autora de Dones a les institucions polítiques catalanes. El llarg camí cap a la igualtat apuntarà alguns elements claus.\n\nFidel a la filosofia que regeix les jornades formatives de l’Ens\, tots els assistents podran manifestar els seus dubtes\, incerteses o reflexions. Amb l'organització d’aquest programa\, la confederació cultural ha volgut incidir en dos àmbits fonamentals en la lluita a favor de la igualtat: la manera com els col·lectius de cultura popular transmeten la realitat des d’una perspectiva de gènere\, i el reflex d’aquesta transmissió esbaixiada en l'ostentació dels càrrecs de responsabilitat. Realitats que s'han considerat paral·leles\, i en conseqüència\, s’han volgut tractar com a unitat.\n\nTots els interessats en participar de la jornada formativa us hi podeu inscriure en el correu info@ens.cat\n\nDescarrega't el Diptic Jornada Formativa Polítiques d'Igualtat en el Col·lectius de Cultura Popular
URL:https://www.bestiari.cat/esdeveniment/jornada-politiques-digualtat-en-els-collectius-de-cultura-popular/
LOCATION:Carrer Montcada\, 12\, Barcelona\, Espanya
CATEGORIES:Altres activitats
ATTACH;FMTTYPE=image/jpeg:https://www.bestiari.cat/wp-content/uploads/2017/07/Cartell-Jornada-Formativa-Polítiques-Igualtat-Col·lectius-Cultura-Popular-copia.jpg
END:VEVENT
END:VCALENDAR