BEGIN:VCALENDAR
VERSION:2.0
PRODID:-//Agrupació del Bestiari Festiu i Popular de Catalunya - ECPv4.5.3//NONSGML v1.0//EN
CALSCALE:GREGORIAN
METHOD:PUBLISH
X-WR-CALNAME:Agrupació del Bestiari Festiu i Popular de Catalunya
X-ORIGINAL-URL:https://www.bestiari.cat
X-WR-CALDESC:Events for Agrupació del Bestiari Festiu i Popular de Catalunya
BEGIN:VEVENT
DTSTART;TZID=UTC+1:20231215T080000
DTEND;TZID=UTC+1:20231230T170000
DTSTAMP:20260419T183526
CREATED:20231213T160140Z
LAST-MODIFIED:20231213T160140Z
UID:23135-1702627200-1703955600@www.bestiari.cat
SUMMARY:La Mula Baba acaba el 2023 amb un munt d'activitats
DESCRIPTION:Aquest desembre 2023 la Mula Baba de Girona té previstes un munt d'activitats que us expliquem aquí mateix:\n\nDivendres 15 de desembre a Girona \nInauguració del Pessebre de l'Ajuntament de Girona\n18 h\, inici de la passejada a la pl 1 d'Octubre\n18.30 h Inauguració del pessebre\n18.45 h Titelles a la plaça del Vi\n\nDissabte 16 de desembre a Elna\n16 h passejada\n17 h Titelles\n\nDiumenge 17 de desembre a Girona\n11 h des del Cul de la Lleona\, passejada per la Girona Episcopal per descobrir llocs\, racons i llegendes de la ciutat de Girona\n\nDissabte 30 de desembre a Girona\n11 h Passejada des de la plaça de la Independència\n12 h Representació dels Pastorets amb les titelles de la Mula Baba\n
URL:https://www.bestiari.cat/esdeveniment/la-mula-baba-acaba-el-2023-amb-un-munt-dactivitats/
CATEGORIES:Activitats associats,Girona-Catalunya Nord i L'Hérault,Territorials
END:VEVENT
END:VCALENDAR