BEGIN:VCALENDAR
VERSION:2.0
PRODID:-//Agrupació del Bestiari Festiu i Popular de Catalunya - ECPv4.5.3//NONSGML v1.0//EN
CALSCALE:GREGORIAN
METHOD:PUBLISH
X-WR-CALNAME:Agrupació del Bestiari Festiu i Popular de Catalunya
X-ORIGINAL-URL:https://www.bestiari.cat
X-WR-CALDESC:Events for Agrupació del Bestiari Festiu i Popular de Catalunya
BEGIN:VEVENT
DTSTART;TZID=UTC+1:20180512T190000
DTEND;TZID=UTC+1:20180513T013000
DTSTAMP:20260419T232059
CREATED:20180506T171845Z
LAST-MODIFIED:20180506T171845Z
UID:3684-1526151600-1526175000@www.bestiari.cat
SUMMARY:La Nit del Tararot
DESCRIPTION:
URL:https://www.bestiari.cat/esdeveniment/la-nit-del-tararot/
LOCATION:Plaça Major\, Tàrrega\, Catalunya\, Espanya
CATEGORIES:Activitats associats,Terres de Ponent-Alt Pirineu
ATTACH;FMTTYPE=image/jpeg:https://www.bestiari.cat/wp-content/uploads/2018/05/IMG-20180503-WA0003.jpg
END:VEVENT
END:VCALENDAR