BEGIN:VCALENDAR
VERSION:2.0
PRODID:-//Agrupació del Bestiari Festiu i Popular de Catalunya - ECPv4.5.3//NONSGML v1.0//EN
CALSCALE:GREGORIAN
METHOD:PUBLISH
X-WR-CALNAME:Agrupació del Bestiari Festiu i Popular de Catalunya
X-ORIGINAL-URL:https://www.bestiari.cat
X-WR-CALDESC:Events for Agrupació del Bestiari Festiu i Popular de Catalunya
BEGIN:VEVENT
DTSTART;TZID=UTC+1:20251025T180000
DTEND;TZID=UTC+1:20251025T233000
DTSTAMP:20260419T183508
CREATED:20251016T152557Z
LAST-MODIFIED:20251016T152557Z
UID:27751-1761415200-1761435000@www.bestiari.cat
SUMMARY:La Reencarnada - Trobada de Bèsties a Lavern
DESCRIPTION:La Reencarnada - Trobada de Bèsties a Lavern\n\nTorna la Reencarnada 2025\, el pròxim 25 d'Octubre cremaran Lavern! Els visitaran bèsties de foc molt xules\, des d'un Minotaure passant per dracs\, dragones i fins i tot un Unicorn! (@dracsidiablesdecua\, @diables_lo_minotaure\, @terrazel\, @dragona_pitaia)\n\nA les 18h Plantada a la Plaça Nova del Cafè.\nA les 20h Enceses de Lluïment\nA continuació Recorregut de Foc\nA l'arribar al carrer de les escoles: enceses finals i conjunta!\n\n\n\n \n\n \n\n 
URL:https://www.bestiari.cat/esdeveniment/la-reencarnada-trobada-de-besties-a-lavern-2/
LOCATION:08739 \, Espanya
CATEGORIES:Activitats associats,Penedès-Garraf,Territorials
END:VEVENT
END:VCALENDAR