BEGIN:VCALENDAR
VERSION:2.0
PRODID:-//Agrupació del Bestiari Festiu i Popular de Catalunya - ECPv4.5.3//NONSGML v1.0//EN
CALSCALE:GREGORIAN
METHOD:PUBLISH
X-WR-CALNAME:Agrupació del Bestiari Festiu i Popular de Catalunya
X-ORIGINAL-URL:https://www.bestiari.cat
X-WR-CALDESC:Events for Agrupació del Bestiari Festiu i Popular de Catalunya
BEGIN:VEVENT
DTSTART;TZID=UTC+1:20201031T180000
DTEND;TZID=UTC+1:20201031T203000
DTSTAMP:20260419T232620
CREATED:20201028T115410Z
LAST-MODIFIED:20211021T121422Z
UID:11315-1604167200-1604176200@www.bestiari.cat
SUMMARY:(SUSPÈS) La Dragonina actuarà dissabte 31 d'octubre pels carrers de Constantí
DESCRIPTION:El pròxim dissabte 31 d'octubre l'Associació Amics Colla C.O.C.A. de Constantí organitzarà la festa "#laveinadragonina2020". L'acte es podrà gaudir des de les finestres\, terrasses i balcons dels habitatges del municipi.\n\nA les 18 h la Dragonina es passejarà pels carrers del poble i\, a les 20 h\, es farà l'espectacle pirotècnic "Engalanant el cel"\, que es podrà contemplar des de casa mirant en direcció a la Piscina Municipal.
URL:https://www.bestiari.cat/esdeveniment/la-veina-dragonina-actuara-dissabte-31-doctubre-pels-carrers-de-constanti/
CATEGORIES:Activitats associats,El Camp-Conca-Priorat
ATTACH;FMTTYPE=image/jpeg:https://www.bestiari.cat/wp-content/uploads/2020/10/photo_2020-10-28_12-41-13.jpg
END:VEVENT
END:VCALENDAR