BEGIN:VCALENDAR
VERSION:2.0
PRODID:-//Agrupació del Bestiari Festiu i Popular de Catalunya - ECPv4.5.3//NONSGML v1.0//EN
CALSCALE:GREGORIAN
METHOD:PUBLISH
X-WR-CALNAME:Agrupació del Bestiari Festiu i Popular de Catalunya
X-ORIGINAL-URL:https://www.bestiari.cat
X-WR-CALDESC:Events for Agrupació del Bestiari Festiu i Popular de Catalunya
BEGIN:VEVENT
DTSTART;TZID=UTC+1:20220709T213000
DTEND;TZID=UTC+1:20220709T213000
DTSTAMP:20260420T033230
CREATED:20220627T074737Z
LAST-MODIFIED:20220627T074737Z
UID:18526-1657402200-1657402200@www.bestiari.cat
SUMMARY:La Volada del Drac de Banyeres del Penedès
DESCRIPTION:El Drac de Banyeres del Penedès recupera 'La Volada del Drac' el dissabte 9 de juliol\, tres anys després de l'última vegada a causa de la pandèmia de la Covid-19. Es tracta d'una representació que explica la història de com els déus varen crear l’ésser més perfecte de tots\, el Drac. Una vegada és invocat\, els timbals comencen a repicar i la bèstia desperta per alçar el seu vol des del campanar fins a la plaça de l’Ajuntament cremant tot allò hi ha al seu pas.\n\nDes del 2015\, la Volada del Drac és patrimoni local d’interès Festiu\, Cultural i Folklòric Català.\n\n'La Volada del Drac' tindrà lloc a les 21.45 h a la plaça de l'Ajuntament. A les 22 h és previst que comenci el Correfoc pels carrers de la vila amb el Drac\, els Diables de Banyeres i les colles convidades. Finalment\, a les 23.30 h es produirà l'encesa de l'Església i el castell de focs.
URL:https://www.bestiari.cat/esdeveniment/la-volada-del-drac-de-banyeres-del-penedes/
CATEGORIES:Activitats associats,Penedès-Garraf
ATTACH;FMTTYPE=image/jpeg:https://www.bestiari.cat/wp-content/uploads/2022/06/Cartell-La-Volada-2022.jpg
END:VEVENT
END:VCALENDAR