BEGIN:VCALENDAR
VERSION:2.0
PRODID:-//Agrupació del Bestiari Festiu i Popular de Catalunya - ECPv4.5.3//NONSGML v1.0//EN
CALSCALE:GREGORIAN
METHOD:PUBLISH
X-WR-CALNAME:Agrupació del Bestiari Festiu i Popular de Catalunya
X-ORIGINAL-URL:https://www.bestiari.cat
X-WR-CALDESC:Events for Agrupació del Bestiari Festiu i Popular de Catalunya
BEGIN:VEVENT
DTSTART;TZID=UTC+1:20181020T110000
DTEND;TZID=UTC+1:20181020T233000
DTSTAMP:20260419T232100
CREATED:20180929T113523Z
LAST-MODIFIED:20181003T090503Z
UID:4205-1540033200-1540078200@www.bestiari.cat
SUMMARY:#laveinadragonina
DESCRIPTION:Programa d'actes:\n\n \t11h: Actuació castellera: amb els Xiquets de Torredembarra\n \t12h: Trobada de Cuques federades i Bestiari de Constantí: Cucafera de Reus\, Cucafera de Montblanc\, Llumeneta de Perafort\, Cucafera de Tarragona amb els Teclers de Tarragona\, Cavallets de Constantí amb els grallers de la Corranda\, Àliga i Aligueta de Constantí amb els Grallers\n \t17h: Cercavila amb la Banda Verònica de Reus\n \t18:30h Concentració de Bestiari de Foc: Diabló de la Selva del Camp\, Morena de Salou\, Drac Pigota de La Pobla de Montornès\, Farnaca de Cambrils\, Dragonina de Constantí\n \t19:30h Correfoc de Bestiari de Foc\n \t23h: Nit electrònica amb Dj Rayo\n\nDescarrega't el cartell dels actes:\n\n \tCORREFOC OCTUBRE HORARIS\n
URL:https://www.bestiari.cat/esdeveniment/laveinadragonina/
LOCATION:Plaça Mn. Cinto Verdaguer\, Constantí\, Espanya
CATEGORIES:Activitats promogudes,El Camp-Conca-Priorat
ATTACH;FMTTYPE=image/png:https://www.bestiari.cat/wp-content/uploads/2018/09/Captura-5.png
END:VEVENT
END:VCALENDAR