BEGIN:VCALENDAR
VERSION:2.0
PRODID:-//Agrupació del Bestiari Festiu i Popular de Catalunya - ECPv4.5.3//NONSGML v1.0//EN
CALSCALE:GREGORIAN
METHOD:PUBLISH
X-WR-CALNAME:Agrupació del Bestiari Festiu i Popular de Catalunya
X-ORIGINAL-URL:https://www.bestiari.cat
X-WR-CALDESC:Events for Agrupació del Bestiari Festiu i Popular de Catalunya
BEGIN:VEVENT
DTSTART;TZID=UTC+1:20240105T183000
DTEND;TZID=UTC+1:20240105T203000
DTSTAMP:20260419T183507
CREATED:20240104T061913Z
LAST-MODIFIED:20240104T061913Z
UID:23288-1704479400-1704486600@www.bestiari.cat
SUMMARY:Lo Tossino de Tàrrega recull xumets!
DESCRIPTION:El dia de reis hi tornem! 👑\n\nLo Tossino de Tàrrega diu que... Ja ets massa grandet per portar el xumet!\n\n📆 Aquest divendres esperen a les criatures que vulguin deixar de portar el xumet. Els trobaràs:\n\n📣 De 18.30 h a 19.00 h a la Plaça Carles Perelló\nA partir de les 19.00 h a la cavalcada\n\n
URL:https://www.bestiari.cat/esdeveniment/lo-tossino-de-tarrega-recull-xumets/
CATEGORIES:Activitats associats,Terres de Ponent-Alt Pirineu,Territorials
END:VEVENT
END:VCALENDAR