BEGIN:VCALENDAR
VERSION:2.0
PRODID:-//Agrupació del Bestiari Festiu i Popular de Catalunya - ECPv4.5.3//NONSGML v1.0//EN
CALSCALE:GREGORIAN
METHOD:PUBLISH
X-WR-CALNAME:Agrupació del Bestiari Festiu i Popular de Catalunya
X-ORIGINAL-URL:https://www.bestiari.cat
X-WR-CALDESC:Events for Agrupació del Bestiari Festiu i Popular de Catalunya
BEGIN:VEVENT
DTSTART;VALUE=DATE:20191006
DTEND;VALUE=DATE:20191006
DTSTAMP:20260420T094737
CREATED:20190916T174039Z
LAST-MODIFIED:20190916T174039Z
UID:5439-1570320000-1570406399@www.bestiari.cat
SUMMARY:Mostra de Bestiari Festiu de Sarrià de Ter
DESCRIPTION:
URL:https://www.bestiari.cat/esdeveniment/mostra-de-bestiari-festiu-de-sarria-de-ter/
LOCATION:Sarrià de Ter\, Espanya
CATEGORIES:Activitats pròpies,Girona-Catalunya Nord i L'Hérault
END:VEVENT
END:VCALENDAR