BEGIN:VCALENDAR
VERSION:2.0
PRODID:-//Agrupació del Bestiari Festiu i Popular de Catalunya - ECPv4.5.3//NONSGML v1.0//EN
CALSCALE:GREGORIAN
METHOD:PUBLISH
X-WR-CALNAME:Agrupació del Bestiari Festiu i Popular de Catalunya
X-ORIGINAL-URL:https://www.bestiari.cat
X-WR-CALDESC:Events for Agrupació del Bestiari Festiu i Popular de Catalunya
BEGIN:VEVENT
DTSTART;TZID=UTC+1:20251108T180000
DTEND;TZID=UTC+1:20251108T213000
DTSTAMP:20260419T232432
CREATED:20251104T160630Z
LAST-MODIFIED:20251104T160653Z
UID:27861-1762624800-1762637400@www.bestiari.cat
SUMMARY:Mostra de Ceptrots i Bèsties de Foc a Premià de Mar
DESCRIPTION:Mostra de Ceptrots i Bèsties de Foc a Premià de Mar\n\nEl proper dissabte 8 de novembre\, arriba la Ceptrotada 2025\, la Mostra de Ceptrots i Bèsties de Foc a Premià de Mar.\n\n \t18h Plantada de Bèsties\n\nBèsties participants: Drac de Montblanc i Moskamot de Santa Eulàlia de l'Hospitalet de Llobregat.\n\n \t19h Correfoc de Bèsties (Pl. Nova)\n \tTot seguit... Ceptrotada\n\nUs deixem el cartell:\n\n
URL:https://www.bestiari.cat/esdeveniment/mostra-de-ceptrots-i-besties-de-foc-a-premia-de-mar/
LOCATION:08330 \, Espanya
CATEGORIES:Activitats associats,Territorials,Vallès-Maresme-Barcelonès Nord
END:VEVENT
END:VCALENDAR