BEGIN:VCALENDAR
VERSION:2.0
PRODID:-//Agrupació del Bestiari Festiu i Popular de Catalunya - ECPv4.5.3//NONSGML v1.0//EN
CALSCALE:GREGORIAN
METHOD:PUBLISH
X-WR-CALNAME:Agrupació del Bestiari Festiu i Popular de Catalunya
X-ORIGINAL-URL:https://www.bestiari.cat
X-WR-CALDESC:Events for Agrupació del Bestiari Festiu i Popular de Catalunya
BEGIN:VEVENT
DTSTART;VALUE=DATE:20181007
DTEND;VALUE=DATE:20181007
DTSTAMP:20260419T232317
CREATED:20180508T060507Z
LAST-MODIFIED:20180929T114826Z
UID:3725-1538870400-1538956799@www.bestiari.cat
SUMMARY:Mostra Representativa de Bestiari a Sarrià de Ter
DESCRIPTION:Programa d'actes:\n\n \t10h\, Inici de la fira\, amb els Gegants de Sarrià de Ter\n \t11h\, plantada de Bestiari festiu\n \t12h\, cercavila de Figures de bestiari\n \t12.30h\, Titelles\n \t17h\, desfilada de Vestits de Paper\n \t18:30h\, Titelles\n \t19h\, cercavila de Figures de bestiari\n \t19:30h\, lluïment de Figures de bestiari amb pirotècnia\n \t20h\, concert fi de festa amb la Puça Diatònica\n\nHi participen el Bou tradicional de Valls\, el Drac del Canigó\, de Prada de Conflent\, i el Drac de Santa Margarida de La Riera de Gaià\n\n\n\n
URL:https://www.bestiari.cat/esdeveniment/mostra-representativa-de-bestiari-a-sarria-de-ter/
LOCATION:Sarrià de Ter\, Espanya
CATEGORIES:Activitats pròpies,Girona-Catalunya Nord i L'Hérault
ATTACH;FMTTYPE=image/jpeg:https://www.bestiari.cat/wp-content/uploads/2018/05/PosterA3_FiraPaper_Sarria2018-01.jpg
END:VEVENT
END:VCALENDAR