BEGIN:VCALENDAR
VERSION:2.0
PRODID:-//Agrupació del Bestiari Festiu i Popular de Catalunya - ECPv4.5.3//NONSGML v1.0//EN
CALSCALE:GREGORIAN
METHOD:PUBLISH
X-WR-CALNAME:Agrupació del Bestiari Festiu i Popular de Catalunya
X-ORIGINAL-URL:https://www.bestiari.cat
X-WR-CALDESC:Events for Agrupació del Bestiari Festiu i Popular de Catalunya
BEGIN:VEVENT
DTSTART;TZID=UTC+1:20181228T180000
DTEND;TZID=UTC+1:20181228T210000
DTSTAMP:20260420T044117
CREATED:20181227T150044Z
LAST-MODIFIED:20190102T150300Z
UID:4569-1546020000-1546030800@www.bestiari.cat
SUMMARY:Nadal al Grau
DESCRIPTION:La Colla de Diables de Botafocs de Castelló de la Plana organitza una sèrie d'activitats al barri del Grau al voltant de la festa dels Sants Innocents.\n\nEls menuts que s'hi apropin podran gaudir de tallers relacionats amb el bestiari\, els dimonis\, jocs...
URL:https://www.bestiari.cat/esdeveniment/nadal-al-grau/
LOCATION:Castelló\, Espanya
CATEGORIES:Activitats associats,País Valencià
ATTACH;FMTTYPE=image/jpeg:https://www.bestiari.cat/wp-content/uploads/2019/01/CCG_Cartell-nadal-grau-2018_Botafocs.jpg
END:VEVENT
END:VCALENDAR