BEGIN:VCALENDAR
VERSION:2.0
PRODID:-//Agrupació del Bestiari Festiu i Popular de Catalunya - ECPv4.5.3//NONSGML v1.0//EN
CALSCALE:GREGORIAN
METHOD:PUBLISH
X-WR-CALNAME:Agrupació del Bestiari Festiu i Popular de Catalunya
X-ORIGINAL-URL:https://www.bestiari.cat
X-WR-CALDESC:Events for Agrupació del Bestiari Festiu i Popular de Catalunya
BEGIN:VEVENT
DTSTART;TZID=UTC+1:20220610T220000
DTEND;TZID=UTC+1:20220610T233000
DTSTAMP:20260420T044427
CREATED:20220608T113233Z
LAST-MODIFIED:20220608T113233Z
UID:18351-1654898400-1654903800@www.bestiari.cat
SUMMARY:Nit de foc amb Bitxaires i la Colla del Bitxo del Torrent Mitger
DESCRIPTION:Aquest divendres 10 de juny\, en el marc de la Festa Major del barri de Poble Nou-Zona Esportiva de Terrassa\, la colla del Bitxo del Torrent MItger celebrarà la seva nit de foc a les 22 h\, des de la plaça de la Cultura. A part\, durant tot el cap de setmana s'han preparat altres activitats com una cercavila amb la Blacktucada\, festa de l'escuma i paellada popular.
URL:https://www.bestiari.cat/esdeveniment/nit-de-foc-amb-bitxaires-i-la-colla-del-bitxo-del-torrent-mitger/
LOCATION:Plaça de la Cultura\, Terrassa\, Barcelona \, 08221\, Espanya
CATEGORIES:Activitats associats,Vallès-Maresme-Barcelonès Nord
ATTACH;FMTTYPE=image/jpeg:https://www.bestiari.cat/wp-content/uploads/2022/06/286544857_881812632762772_4187050908743017223_n.jpeg
END:VEVENT
END:VCALENDAR