BEGIN:VCALENDAR
VERSION:2.0
PRODID:-//Agrupació del Bestiari Festiu i Popular de Catalunya - ECPv4.5.3//NONSGML v1.0//EN
CALSCALE:GREGORIAN
METHOD:PUBLISH
X-WR-CALNAME:Agrupació del Bestiari Festiu i Popular de Catalunya
X-ORIGINAL-URL:https://www.bestiari.cat
X-WR-CALDESC:Events for Agrupació del Bestiari Festiu i Popular de Catalunya
BEGIN:VEVENT
DTSTART;TZID=UTC+1:20180602T090000
DTEND;TZID=UTC+1:20180602T140000
DTSTAMP:20260419T232216
CREATED:20180508T055619Z
LAST-MODIFIED:20180530T074846Z
UID:3713-1527930000-1527948000@www.bestiari.cat
SUMMARY:Obrim la Gàbia (DASC2018)
DESCRIPTION:L’Agrupació del Bestiari Festiu i Popular de Catalunya organitza l’acte “Obrim la Gàbia” per al proper dissabte 2 de juny a Vilafranca del Penedès.\n\nEn un format poc habitual al que estem acostumats\, es plantaran fins a mitja dotzena de figures de bestiari festiu a la Plaça del Penedès per tal d’apropar-se a la societat i obrir les portes de la nova Seu social de l’Agrupació. L’acte està pensat per donar a conèixer la riquesa i varietat del bestiari festiu català al públic infantil i familiar\, i està vinculat a la commemoració del Dia de l’Associacionisme Cultural\, impulsat pel Departament de Cultura de la Generalitat de Catalunya.\n\nHi participen les següents figures de bestiari festiu: la Papallona de Sant Pere (Terrassa)\, el Drac Petit de Sant Pere de Ribes\, el Drac Petit de Terrassa\, l'Espiadimonis de Sant Martí de les Guspires de Sant Martí (Barcelona) i el Drac Baluk Astharoth (Terrassa).\n\nDurant tot el matí\, els més menuts podran gaudir de diferents activitats infantils o\, fins i tot\, emprovar-se alguna figura de bestiari.  A les 12:15h s'oferirà als assistents una sessió de conta-contes a càrrec de l'editorial El Cep i la Nansa. L’acte clourà amb una cercavila des de la mateixa plaça del Penedès fins al Parc del Tívoli.\n\nA més\, durant bona part del matí\, els assistents podran visitar la Seu social de l’Agrupació\, per tal de conèixer de primera mà l’activitat que duu a terme la federació\, a més de conèixer l’espai de reunió i atenció a les entitats federades.
URL:https://www.bestiari.cat/esdeveniment/obrim-la-gabia-dasc2018/
LOCATION:Plaça del Penedès\, Vilafranca del Penedès\, Espanya
CATEGORIES:Activitats pròpies,Penedès-Garraf
ATTACH;FMTTYPE=image/jpeg:https://www.bestiari.cat/wp-content/uploads/2018/05/obrim-la-gabia-1.jpg
ORGANIZER;CN="Agrupaci%C3%B3%20del%20Bestiari%20Festiu%20i%20Popular%20de%20Catalunya":MAILTO:info@bestiari.cat
END:VEVENT
END:VCALENDAR