BEGIN:VCALENDAR
VERSION:2.0
PRODID:-//Agrupació del Bestiari Festiu i Popular de Catalunya - ECPv4.5.3//NONSGML v1.0//EN
CALSCALE:GREGORIAN
METHOD:PUBLISH
X-WR-CALNAME:Agrupació del Bestiari Festiu i Popular de Catalunya
X-ORIGINAL-URL:https://www.bestiari.cat
X-WR-CALDESC:Events for Agrupació del Bestiari Festiu i Popular de Catalunya
BEGIN:VEVENT
DTSTART;TZID=UTC+1:20190601T110000
DTEND;TZID=UTC+1:20190601T140000
DTSTAMP:20260419T214151
CREATED:20190509T100932Z
LAST-MODIFIED:20190526T162039Z
UID:5090-1559386800-1559397600@www.bestiari.cat
SUMMARY:Obrim la Gàbia - Treu la teva bèstia
DESCRIPTION:Programa de la jornada:\n\n \td'11 a 13h: Plantada de bestiari a la Plaça del Penedès / Portes obertes de la seu social\n \ta les 12h:\n\n \tPresentació del projecte Treu la teva bèstia\n \tPresentació de les noves figures de bestiari de centres educatius:\n\n \tInstitut Castell dels Templers (Lleida)\n \tInstitut Jaume I (Salou)\n \tInstitut Severo Ochoa (Esplugues de Llobregat)\n \tInstitut Salvador Espriu\, Escola el Pla i Escola Silvestre Santaló (Salt)\n\n\n\n\n \ta les 13h: Lluïment de les figures de bestiari participants i fi de festa\n\nTreu la teva bèstia és un taller cooperatiu d'escultura comunitària com a eina per a la cohesió i la inclusió social. Pretén involucrar la cohesió de la comunitat educativa amb l'entorn per mitjà de la creació d'elements que esdevinguin símbols compartits.
URL:https://www.bestiari.cat/esdeveniment/obrim-la-gabia/
LOCATION:Plaça del Penedès\, Vilafranca del Penedès\, Espanya
CATEGORIES:Activitats pròpies,Penedès-Garraf
ATTACH;FMTTYPE=image/jpeg:https://www.bestiari.cat/wp-content/uploads/2019/05/obrim-la-gabia.jpg
ORGANIZER;CN="Agrupaci%C3%B3%20del%20Bestiari%20Festiu%20i%20Popular%20de%20Catalunya":MAILTO:info@bestiari.cat
END:VEVENT
END:VCALENDAR