BEGIN:VCALENDAR
VERSION:2.0
PRODID:-//Agrupació del Bestiari Festiu i Popular de Catalunya - ECPv4.5.3//NONSGML v1.0//EN
CALSCALE:GREGORIAN
METHOD:PUBLISH
X-WR-CALNAME:Agrupació del Bestiari Festiu i Popular de Catalunya
X-ORIGINAL-URL:https://www.bestiari.cat
X-WR-CALDESC:Events for Agrupació del Bestiari Festiu i Popular de Catalunya
BEGIN:VEVENT
DTSTART;TZID=UTC+1:20231223T100000
DTEND;TZID=UTC+1:20231223T143000
DTSTAMP:20260419T183526
CREATED:20231221T092618Z
LAST-MODIFIED:20231221T092618Z
UID:23187-1703325600-1703341800@www.bestiari.cat
SUMMARY:Paradeta Nadalenca del Gall de La Pobla
DESCRIPTION:El dissabte 23 de desembre el Gall de La Pobla us espera al Casal d'Amics de Montornès amb un munt de propostes per regalar aquest Nadal!\n\n
URL:https://www.bestiari.cat/esdeveniment/paradeta-nadalenca-del-gall-de-la-pobla/
CATEGORIES:Activitats associats,El Camp-Conca-Priorat,Territorials
END:VEVENT
END:VCALENDAR