BEGIN:VCALENDAR
VERSION:2.0
PRODID:-//Agrupació del Bestiari Festiu i Popular de Catalunya - ECPv4.5.3//NONSGML v1.0//EN
CALSCALE:GREGORIAN
METHOD:PUBLISH
X-WR-CALNAME:Agrupació del Bestiari Festiu i Popular de Catalunya
X-ORIGINAL-URL:https://www.bestiari.cat
X-WR-CALDESC:Events for Agrupació del Bestiari Festiu i Popular de Catalunya
BEGIN:VEVENT
DTSTART;TZID=UTC+1:20201011T170000
DTEND;TZID=UTC+1:20201011T193000
DTSTAMP:20260420T145411
CREATED:20201007T091155Z
LAST-MODIFIED:20201007T092206Z
UID:10962-1602435600-1602444600@www.bestiari.cat
SUMMARY:Plantada de bèsties de foc al Vendrell amb motiu de la Fira de Santa Teresa
DESCRIPTION:Diumenge 11 d'octubre tindrà lloc al Vendrell una exhibició de bèsties fogueres amb motiu de la Fira de Santa Teresa. L'acte començarà a les cinc de la tarda\, amb la plantada de bèsties de foc.\n\n \tPlaça Nova: plantada de 17 a 19.30 h del Borinot del Vendrell\, les Puces del Caramot i la Mulassa Feixuga del Vendrell.\n \tPlaça Vella: plantada de 17 a 19.30 h del Drac de Foc el Cabrot del Vendrell\, el Cabrot Petit del Vendrell i el Drac del Vendrell.\n\nMés tard\, a la plaça de Pep Jai\, les bèsties abans exposades faran dues enceses de lluïment. Una a les 20 h i l'altra a les 21.45. Les entrades\, però\, estan exhaurides.\n\nMés informació al telèfon 977 66 73 79 o al correu elVdefesta@gmail.com.
URL:https://www.bestiari.cat/esdeveniment/plantada-de-besties-de-foc-al-vendrell-amb-motiu-de-la-fira-de-santa-teresa/
LOCATION:plaça Nova\, el Vendrell \, Tarragona \, 43700\, Espanya
CATEGORIES:Altres activitats,Penedès-Garraf
ATTACH;FMTTYPE=image/jpeg:https://www.bestiari.cat/wp-content/uploads/2020/10/photo_2020-10-06_17-41-47.jpg
END:VEVENT
END:VCALENDAR