BEGIN:VCALENDAR
VERSION:2.0
PRODID:-//Agrupació del Bestiari Festiu i Popular de Catalunya - ECPv4.5.3//NONSGML v1.0//EN
CALSCALE:GREGORIAN
METHOD:PUBLISH
X-WR-CALNAME:Agrupació del Bestiari Festiu i Popular de Catalunya
X-ORIGINAL-URL:https://www.bestiari.cat
X-WR-CALDESC:Events for Agrupació del Bestiari Festiu i Popular de Catalunya
BEGIN:VEVENT
DTSTART;TZID=UTC+1:20230725T180000
DTEND;TZID=UTC+1:20230725T200000
DTSTAMP:20260420T060923
CREATED:20230719T112951Z
LAST-MODIFIED:20230719T112951Z
UID:22412-1690308000-1690315200@www.bestiari.cat
SUMMARY:Presentació de la reconstrucció de l'Àliga del Vendrell
DESCRIPTION:El dimarts 25 de juliol a les 18 h a la Plaça Vella del Vendrell es presenta la nova imatge de l'Àliga del Vendrell. Un cop presentada la reconstrucció de l’Àliga\, que serà a les 6 de la tarda\, aquesta recollirà els xumets dels petits de la vila que ja es comencen a fer grans.\n\nTot seguit\, es dirigirà cap al carrer Major per encapçalar el trasllat de la imatge de Santa Anna dels Portants des de casa de la Montserrat Caralt fins a l’Església Parroquial\, juntament amb el Lleó i els Gegants.\n\nQuan el seguici arribi al temple\, l’Àliga\, el Lleó i els Gegants presidiran el cant dels Goigs de Santa Anna i hi dormiran fins a l’endemà per presidir l’Ofici de Santa Anna.\n\n
URL:https://www.bestiari.cat/esdeveniment/presentacio-aliga-vendrell/
CATEGORIES:Activitats associats,Territorials
ATTACH;FMTTYPE=image/png:https://www.bestiari.cat/wp-content/uploads/2023/07/Captura-de-pantalla-2023-07-19-a-les-13.27.16.png
END:VEVENT
END:VCALENDAR