BEGIN:VCALENDAR
VERSION:2.0
PRODID:-//Agrupació del Bestiari Festiu i Popular de Catalunya - ECPv4.5.3//NONSGML v1.0//EN
CALSCALE:GREGORIAN
METHOD:PUBLISH
X-WR-CALNAME:Agrupació del Bestiari Festiu i Popular de Catalunya
X-ORIGINAL-URL:https://www.bestiari.cat
X-WR-CALDESC:Events for Agrupació del Bestiari Festiu i Popular de Catalunya
BEGIN:VEVENT
DTSTART;TZID=UTC+1:20200206T190000
DTEND;TZID=UTC+1:20200206T200000
DTSTAMP:20260420T044221
CREATED:20200131T120927Z
LAST-MODIFIED:20200131T121241Z
UID:7313-1581015600-1581019200@www.bestiari.cat
SUMMARY:Presentació de la revista Catalonia
DESCRIPTION:El pròxim dijous 6 de febrer l'Adifolk i l'American Institute for Catalan Studies presentaran a Barcelona el darrer número de la revista Catalonia Magazine\, que en aquest cas està dedicat a la cultura popular. La publicació es donarà a conèixer a les set de la tarda a la Casa de la Sardana.
URL:https://www.bestiari.cat/esdeveniment/presentacio-de-la-revista-catalonia/
LOCATION:carrer Pou de la Figuera\, 15\, Barcelona\, Barcelona\, 08030\, Espanya
CATEGORIES:Altres activitats,Barcelona Ciutat
ATTACH;FMTTYPE=image/jpeg:https://www.bestiari.cat/wp-content/uploads/2020/01/image004.jpg
END:VEVENT
END:VCALENDAR