BEGIN:VCALENDAR
VERSION:2.0
PRODID:-//Agrupació del Bestiari Festiu i Popular de Catalunya - ECPv4.5.3//NONSGML v1.0//EN
CALSCALE:GREGORIAN
METHOD:PUBLISH
X-WR-CALNAME:Agrupació del Bestiari Festiu i Popular de Catalunya
X-ORIGINAL-URL:https://www.bestiari.cat
X-WR-CALDESC:Events for Agrupació del Bestiari Festiu i Popular de Catalunya
BEGIN:VEVENT
DTSTART;TZID=UTC+1:20181122T190000
DTEND;TZID=UTC+1:20181122T200000
DTSTAMP:20260422T101442
CREATED:20181119T102307Z
LAST-MODIFIED:20181119T102307Z
UID:4453-1542913200-1542916800@www.bestiari.cat
SUMMARY:Presentació de les conclusions del fòrum Som Cultura Popular.
DESCRIPTION:El dijous 22 de novembre a les 19.00 es presentaran al Palau Marc\, la seu del Departament de Cultura\, les conclusions del fòrum Som Cultura Popular que es va fer al mes de gener passat. Per un costat s’ha editat un número especial de la revista Canemàs dedicat a l’esdeveniment que aplega les cròniques\, les idees i les conclusions que es van extreure dels col·loquis\, debats i conferències. I per un altre costat també es difondran els resultats del fòrum d’Educació i Cultura Popular\, una de les tres potes de la trobada. Es farà a través d’un publicació digital que recull tota la documentació generada.
URL:https://www.bestiari.cat/esdeveniment/presentacio-de-les-conclusions-del-forum-som-cultura-popular/
LOCATION:Palau Marc\, La Rambla\, 8\, Barcelona\, Barcelona\, 08001\, Espanya
CATEGORIES:Activitats associats,Barcelona Ciutat
ATTACH;FMTTYPE=image/jpeg:https://www.bestiari.cat/wp-content/uploads/2018/11/Conclusions_SomCultura.jpg
END:VEVENT
END:VCALENDAR