BEGIN:VCALENDAR
VERSION:2.0
PRODID:-//Agrupació del Bestiari Festiu i Popular de Catalunya - ECPv4.5.3//NONSGML v1.0//EN
CALSCALE:GREGORIAN
METHOD:PUBLISH
X-WR-CALNAME:Agrupació del Bestiari Festiu i Popular de Catalunya
X-ORIGINAL-URL:https://www.bestiari.cat
X-WR-CALDESC:Events for Agrupació del Bestiari Festiu i Popular de Catalunya
BEGIN:VEVENT
DTSTART;TZID=UTC+1:20220402T120000
DTEND;TZID=UTC+1:20220402T130000
DTSTAMP:20260420T033338
CREATED:20220202T163920Z
LAST-MODIFIED:20220202T163920Z
UID:17023-1648900800-1648904400@www.bestiari.cat
SUMMARY:Presentació del llibre 'Retrobestiari' a Igualada
DESCRIPTION:Dissabte 2 d'abril es presentarà a la Biblioteca Central d'Igualada el llibre 'Retrobestiari'. L'acte començarà a les 12 del migdia i en ell es parlarà del Drac d'Igualada\, així com altres bèsties festives que es van construir amb la recuperació de la democràcia a Catalunya\, als anys 70 i 80.\n\nPodeu llegir més informació del llibre en el següent enllaç: https://www.bestiari.cat/2021/11/retrobestiari-el-nou-llibre-de-lagrupacio-del-bestiari-posa-en-valor-la-memoria-viva-de-la-cultura-popular-dels-anys-70-i-80/ 
URL:https://www.bestiari.cat/esdeveniment/presentacio-del-llibre-retrobestiari-a-igualada/
CATEGORIES:Activitats promogudes,Comarques Centrals
ATTACH;FMTTYPE=image/jpeg:https://www.bestiari.cat/wp-content/uploads/2022/02/GABICP_1.jpeg
END:VEVENT
END:VCALENDAR