BEGIN:VCALENDAR
VERSION:2.0
PRODID:-//Agrupació del Bestiari Festiu i Popular de Catalunya - ECPv4.5.3//NONSGML v1.0//EN
CALSCALE:GREGORIAN
METHOD:PUBLISH
X-WR-CALNAME:Agrupació del Bestiari Festiu i Popular de Catalunya
X-ORIGINAL-URL:https://www.bestiari.cat
X-WR-CALDESC:Events for Agrupació del Bestiari Festiu i Popular de Catalunya
BEGIN:VEVENT
DTSTART;TZID=UTC+1:20190223T180000
DTEND;TZID=UTC+1:20190223T213000
DTSTAMP:20260420T044241
CREATED:20190218T125908Z
LAST-MODIFIED:20190218T125908Z
UID:4795-1550944800-1550957400@www.bestiari.cat
SUMMARY:Rebombori de la Mulassa
DESCRIPTION:18:00 h\nArribada de la Mulassa de Mataró i exposició dels elements participants a la festa.\nA la Plaça de Santa Maria.\n\nSeguidament\, representació de titelles a càrrec de la Mula Baba de Girona.\n\n18:30 h\nPassejada de les bèsties convidades.\n\nRecorregut: Santa Maria\, carrer Nou\, Riera\, Plaça Santa Anna.\n\n19:00 h\nMostra de balls i lluïments dels elements participants.\n\n19:30 h\nCercavila de cloenda.
URL:https://www.bestiari.cat/esdeveniment/rebombori-de-la-mulassa/
LOCATION:Mataró\, Barcelona\, 08301\, Espanya
CATEGORIES:Activitats associats,Vallès-Maresme-Barcelonès Nord
ATTACH;FMTTYPE=image/jpeg:https://www.bestiari.cat/wp-content/uploads/2019/02/rebombori.jpeg
END:VEVENT
END:VCALENDAR