BEGIN:VCALENDAR
VERSION:2.0
PRODID:-//Agrupació del Bestiari Festiu i Popular de Catalunya - ECPv4.5.3//NONSGML v1.0//EN
CALSCALE:GREGORIAN
METHOD:PUBLISH
X-WR-CALNAME:Agrupació del Bestiari Festiu i Popular de Catalunya
X-ORIGINAL-URL:https://www.bestiari.cat
X-WR-CALDESC:Events for Agrupació del Bestiari Festiu i Popular de Catalunya
BEGIN:VEVENT
DTSTART;TZID=UTC+1:20210612T190000
DTEND;TZID=UTC+1:20210612T193000
DTSTAMP:20260420T064308
CREATED:20210610T112156Z
LAST-MODIFIED:20210610T112417Z
UID:14692-1623524400-1623526200@www.bestiari.cat
SUMMARY:Reportatge sobre el Bestiari 3D amb motiu de la celebració de la setmana de l'Associacionisme Cultural
DESCRIPTION:Aquest dissabte\, amb motiu de la celebració de la setmana de l'Associacionisme Cultural\, es penjarà a les 19 h un reportatge fet per l'Agrupació sobre el projecte de Digitalització 3D.
URL:https://www.bestiari.cat/esdeveniment/reportatge-sobre-el-bestiari-3d-amb-motiu-de-la-celebracio-de-la-setmana-de-lassociacionisme-cultural/
ATTACH;FMTTYPE=image/jpeg:https://www.bestiari.cat/wp-content/uploads/2021/06/foto-reportatge.jpg
END:VEVENT
END:VCALENDAR