BEGIN:VCALENDAR
VERSION:2.0
PRODID:-//Agrupació del Bestiari Festiu i Popular de Catalunya - ECPv4.5.3//NONSGML v1.0//EN
CALSCALE:GREGORIAN
METHOD:PUBLISH
X-WR-CALNAME:Agrupació del Bestiari Festiu i Popular de Catalunya
X-ORIGINAL-URL:https://www.bestiari.cat
X-WR-CALDESC:Events for Agrupació del Bestiari Festiu i Popular de Catalunya
BEGIN:VEVENT
DTSTART;TZID=UTC+1:20200314T183000
DTEND;TZID=UTC+1:20200314T200000
DTSTAMP:20260420T060921
CREATED:20200310T120214Z
LAST-MODIFIED:20200310T120420Z
UID:8614-1584210600-1584216000@www.bestiari.cat
SUMMARY:Representació de l'espectacle feminista 'Alè'
DESCRIPTION:Amb motiu de la celebració del Dia Internacional de les Dones\, que va tenir lloc el passat diumenge 8 de març\, el pròxim dissabte dia 14 es representarà al Parc de la Maquinista de Sant Andreu l'espectacle Alè\, una representació concebuda a partir del maridatge entre diferents àmbits de la cultura popular\, com la sardana\, la mitologia catalana\, la recreació històrica\, la música\, el foc i les noves tecnologies. L'actuació vol fer un homenatge a les dones acusades de bruixeria pel simple fet de ballar sardanes.\n\nAbans de l'acte\, que serà a les 18.30 h\, es farà mitja ballada de sardanes a les 17.30 h. L'entrada a l'espectacle és gratuïta.\n\n(Foto: Il·lustració del programa "Ecofeminismes" de l'Ajuntament de Barcelona / Font: Ajuntament de Barcelona)
URL:https://www.bestiari.cat/esdeveniment/representacio-de-lespectacle-feminista-ale/
LOCATION:Carrer Ferran Junoy\, 1\, Barcelona \, Barcelona \, 08030\, Espanya
CATEGORIES:Altres activitats,Barcelona Ciutat
ATTACH;FMTTYPE=image/jpeg:https://www.bestiari.cat/wp-content/uploads/2020/03/Imatge-Ecofeminismes-Barcelona.jpg
END:VEVENT
END:VCALENDAR