BEGIN:VCALENDAR
VERSION:2.0
PRODID:-//Agrupació del Bestiari Festiu i Popular de Catalunya - ECPv4.5.3//NONSGML v1.0//EN
CALSCALE:GREGORIAN
METHOD:PUBLISH
X-WR-CALNAME:Agrupació del Bestiari Festiu i Popular de Catalunya
X-ORIGINAL-URL:https://www.bestiari.cat
X-WR-CALDESC:Events for Agrupació del Bestiari Festiu i Popular de Catalunya
BEGIN:VEVENT
DTSTART;TZID=UTC+1:20230623T183000
DTEND;TZID=UTC+1:20230623T233000
DTSTAMP:20260419T232139
CREATED:20230620T154629Z
LAST-MODIFIED:20230620T154629Z
UID:22262-1687545000-1687563000@www.bestiari.cat
SUMMARY:Sant Joan amb els Diables de l'Espluga de Francolí
DESCRIPTION:Revetlla de Sant Joan a l’Espluga de Francolí: Flama del Canigó\, cultura popular i festa en una nit màgica\nL’Espluga de Francolí viurà una revetlla de Sant Joan plena de festa i tradició\, en la qual l’arribada de la Flama del Canigó\, les actuacions dels grups de cultura popular en cercavila i una nit animada seran els moments més destacats.\n\nPrograma\n18.30 h I Font Baixa\nArribada de la Flama del Canigó i cercavila de Cultura Popular\n19 h I pl Montserrat Canals\nActe Institucional de la Flama del Canigó\n23 h I carrers de l'Espluga de Francolí Correfoc i espectacle pirotècnic\nConcert amb Grup Akelarre i Pd Peting\n
URL:https://www.bestiari.cat/esdeveniment/sant-joan-diables-espluga-francoli/
CATEGORIES:Activitats associats,El Camp-Conca-Priorat
END:VEVENT
END:VCALENDAR